Workbook

Sheet Chung
C1: ỦY BAN NHÂN DÂN TP.HCM | J1: CỘNG HÒA XÃ HỘI CHỦ NGHĨA VIỆT NAM
C2: TRƯỜNG CĐ KỸ THUẬT LÝ TỰ TRỌNG | J2: Độc lập - Tự do - Hạnh phúc
G5: BẢNG KÊ KHỐI LƯỢNG CÔNG TÁC GIẢNG DẠY CỦA GIÁO VIÊN - GIẢNG VIÊN
E6: TRONG HỌC KỲ: | F6: I | G6: - | H6: Năm học: | J6: 2015 - 2016
C7: Họ và tên giáo viên: | D7: DƯƠNG MINH CHUNG | F7: Tổ: | G7: CÔNG NGHỆ CHẾ TẠO | K7: Khoa : | L7: Công nghệ cơ khí
L8: (Đơn vị tính: tiết)
A9: TT | B9: Từ | C9: Đến | D9: Số tuần thực dạy | E9: Môn Dạy | F9: Lớp dạy | G9: Tổng hệ số | I9: Thực hiện
B10: Ngày… | C10: Ngày… | I10: Thực giảng dạy | K10: Kiêm Nhiệm | L10: Khối luợng công tác cộng thêm | M10: Tổng thực hiện | N10: Ghi
B11: Tháng… | C11: Tháng… | G11: LT | H11: TH | I11: Chưa nhân | J11: Đã nhân | N11: Chú
B12: Năm…. | C12: Năm…. | I12: hệ số | J12: hệ số
A13: (1) | B13: (2) | D13: (3) | E13: (4) | F13: (5) | G13: (6) | H13: (7) | I13: (8) | J13: (9) | K13: (10) | L13: (11) | M13: (12) | N13: (13)
A14: 01 | B14: 42254 | C14: 42357 | E14: Nguyên Lý Cắt Kim Loại | F14: 13CĐ-CK2 | G14: 1.2 | I14: 30 | J14: =ROUND(IF(G14>0,G14*I14,"0")+IF(H14>0,(I14/1.5)*H14,"0"),1) -> 36 | M14: =ROUND(J14+K14+L14,1) -> 36 | N14: 52 Sinh viên
A15: 02 | B15: 42254 | C15: 42357 | E15: Nguyên Lý Cắt Kim Loại | F15: 13CĐ-CK3 | G15: 1.2 | I15: 30 | J15: =ROUND(IF(G15>0,G15*I15,"0")+IF(H15>0,(I15/1.5)*H15,"0"),1) -> 36 | M15: =ROUND(J15+K15+L15,1) -> 36 | N15: 54 Sinh viên
A16: 03 | B16: 42254 | C16: 42290 | E16: Thực Tập Tiện 1 | F16: 14CĐ-CK1 | H16: 1.2 | I16: 60 | J16: =ROUND(IF(G16>0,G16*I16,"0")+IF(H16>0,(I16/1.5)*H16,"0"),1) -> 48 | M16: =ROUND(J16+K16+L16,1) -> 48 | N16: 30 Sinh viên
A17: 04 | B17: 42256 | C17: 42292 | E17: Thực Tập Tiện 1 | F17: 14CĐ-CK2 | H17: 1.2 | I17: 60 | J17: =ROUND(IF(G17>0,G17*I17,"0")+IF(H17>0,(I17/1.5)*H17,"0"),1) -> 48 | M17: =ROUND(J17+K17+L17,1) -> 48 | N17: 32 Sinh viên
A18: 05 | J18: =ROUND(IF(G18>0,G18*I18,"0")+IF(H18>0,(I18/1.5)*H18,"0"),1) -> 0 | M18: =ROUND(J18+K18+L18,1) -> 0
A19: 06 | J19: =ROUND(IF(G19>0,G19*I19,"0")+IF(H19>0,(I19/1.5)*H19,"0"),1) -> 0 | M19: =ROUND(J19+K19+L19,1) -> 0
A20: 07 | J20: =ROUND(IF(G20>0,G20*I20,"0")+IF(H20>0,(I20/1.5)*H20,"0"),1) -> 0 | M20: =ROUND(J20+K20+L20,1) -> 0
A21: 08 | J21: =ROUND(IF(G21>0,G21*I21,"0")+IF(H21>0,(I21/1.5)*H21,"0"),1) -> 0 | M21: =ROUND(J21+K21+L21,1) -> 0
A22: 09 | J22: =ROUND(IF(G22>0,G22*I22,"0")+IF(H22>0,(I22/1.5)*H22,"0"),1) -> 0 | M22: =ROUND(J22+K22+L22,1) -> 0
A23: 10 | E23: CVHT | F23: 13CĐ-CK4 | G23: 15 | J23: =ROUND(IF(G23>0,G23*I23,"0")+IF(H23>0,(I23/1.5)*H23,"0"),1) -> 0 | K23: =IF(E23="CVHT",ROUND((270*G23/100)/2,1),0) -> 20.3 | M23: =ROUND(J23+K23+L23,1) -> 20.3
A24: TỔNG CỘNG (theo tiết) | I24: =SUM(I14:I23) -> 180 | J24: =SUM(J14:J23) -> 168 | K24: =SUM(K14:K23) -> 20.3 | L24: =SUM(L14:L21) -> 0 | M24: =SUM(M14:M23) -> 188.3
B26: CÁCH TÍNH: | C26: Cột (6), (7): | D26: Nhập tổng hệ số = 1+ (Hệ số thứ nhất - 1 + Hệ số thứ hai - 1 + … -1), không tính hệ số quy đổi thực hành sang tiết chuẩn
C27: Cột (8): | D27: Nhập đúng số tiết thực dạy
C28: Cột (11): | D28: Khối lượng công tác cộng thêm (nếu có) theo điều 16 Quy định 1863.
M30: Ngày …... tháng ….. năm 2016
B31: TRƯỞNG KHOA | F31: TRƯỞNG TỔ | M31: GIÁO VIÊN
F37: Trần Đình Khải | M37: Dương Minh Chung

Sheet Cuong
C1: ỦY BAN NHÂN DÂN TP.HCM | J1: CỘNG HÒA XÃ HỘI CHỦ NGHĨA VIỆT NAM
C2: TRƯỜNG CĐ KỸ THUẬT LÝ TỰ TRỌNG | J2: Độc lập - Tự do - Hạnh phúc
G5: BẢNG KÊ KHỐI LƯỢNG CÔNG TÁC GIẢNG DẠY CỦA GIÁO VIÊN - GIẢNG VIÊN
E6: TRONG HỌC KỲ: | F6: I | G6: - | H6: Năm học: | J6: 2015 - 2016
C7: Họ và tên giáo viên: | D7: Nguyễn Tam Cương | F7: Tổ: | G7: Công nghệ chế tạo | K7: Khoa : | L7: Công nghệ cơ khí
L8: (Đơn vị tính: tiết)
A9: TT | B9: Từ | C9: Đến | D9: Số tuần thực dạy | E9: Môn Dạy | F9: Lớp dạy | G9: Tổng hệ số | I9: Thực hiện
B10: Ngày… | C10: Ngày… | I10: Thực giảng dạy | K10: Kiêm Nhiệm | L10: Khối luợng công tác cộng thêm | M10: Tổng thực hiện | N10: Ghi
B11: Tháng… | C11: Tháng… | G11: LT | H11: TH | I11: Chưa nhân | J11: Đã nhân | N11: Chú
B12: Năm…. | C12: Năm…. | I12: hệ số | J12: hệ số
A13: (1) | B13: (2) | D13: (3) | E13: (4) | F13: (5) | G13: (6) | H13: (7) | I13: (8) | J13: (9) | K13: (10) | L13: (11) | M13: (12) | N13: (13)
A14: 01 | B14: 42248 | C14: 42430 | D14: 15 | E14: Đồ án Công nghệ chế tạo | F14: 13CĐ - CK1 | G14: 1.2 | I14: 15 | J14: =ROUND(IF(G14>0,G14*I14,"0")+IF(H14>0,(I14/1.5)*H14,"0"),1) -> 18 | M14: =ROUND(J14+K14+L14,1) -> 18 | N14: 47 SV
A15: 02 | B15: 42248 | C15: 42430 | D15: 15 | E15: Đồ án Công nghệ chế tạo | F15: 13CĐ - CK2 | G15: 1.2 | I15: 15 | J15: =ROUND(IF(G15>0,G15*I15,"0")+IF(H15>0,(I15/1.5)*H15,"0"),1) -> 18 | M15: =ROUND(J15+K15+L15,1) -> 18 | N15: 47 SV
A16: 03 | B16: 42248 | C16: 42430 | D16: 15 | E16: Đồ án Công nghệ chế tạo | F16: 13CĐ - CK3 | G16: 1.1 | I16: 15 | J16: =ROUND(IF(G16>0,G16*I16,"0")+IF(H16>0,(I16/1.5)*H16,"0"),1) -> 16.5 | M16: =ROUND(J16+K16+L16,1) -> 16.5 | N16: 37 SV
A17: 04 | B17: 42248 | C17: 42430 | D17: 15 | E17: Đồ án Công nghệ chế tạo | F17: 13CĐ - CK4 | G17: 1.2 | I17: 15 | J17: =ROUND(IF(G17>0,G17*I17,"0")+IF(H17>0,(I17/1.5)*H17,"0"),1) -> 18 | M17: =ROUND(J17+K17+L17,1) -> 18 | N17: 47 SV
A18: 05 | B18: 42248 | C18: 42430 | D18: 15 | E18: Đồ án Chi tiết máy | F18: 13CĐ - Ô 1 | G18: 1.2 | I18: 15 | J18: =ROUND(IF(G18>0,G18*I18,"0")+IF(H18>0,(I18/1.5)*H18,"0"),1) -> 18 | M18: =ROUND(J18+K18+L18,1) -> 18 | N18: 56 SV
A19: 06 | B19: 42248 | C19: 42430 | D19: 15 | E19: Đồ án Chi tiết máy | F19: 13CĐ - Ô 2 | G19: 1.2 | I19: 15 | J19: =ROUND(IF(G19>0,G19*I19,"0")+IF(H19>0,(I19/1.5)*H19,"0"),1) -> 18 | M19: =ROUND(J19+K19+L19,1) -> 18 | N19: 57 SV
A20: 07 | B20: 42248 | C20: 42430 | D20: 15 | E20: Đồ án Chi tiết máy | F20: 13CĐ - Ô 3 | G20: 1.2 | I20: 15 | J20: =ROUND(IF(G20>0,G20*I20,"0")+IF(H20>0,(I20/1.5)*H20,"0"),1) -> 18 | M20: =ROUND(J20+K20+L20,1) -> 18 | N20: 58 SV
A21: 08 | J21: =ROUND(IF(G21>0,G21*I21,"0")+IF(H21>0,(I21/1.5)*H21,"0"),1) -> 0 | M21: =ROUND(J21+K21+L21,1) -> 0
A22: 09 | J22: =ROUND(IF(G22>0,G22*I22,"0")+IF(H22>0,(I22/1.5)*H22,"0"),1) -> 0 | M22: =ROUND(J22+K22+L22,1) -> 0
A23: 10 | E23: CVHT | F23: 15CĐ-CĐT2 | G23: 15 | J23: =ROUND(IF(G23>0,G23*I23,"0")+IF(H23>0,(I23/1.5)*H23,"0"),1) -> 0 | K23: =IF(E23="CVHT",ROUND((270*G23/100)/2,1),0) -> 20.3 | M23: =ROUND(J23+K23+L23,1) -> 20.3
A24: TỔNG CỘNG (theo tiết) | I24: =SUM(I14:I23) -> 105 | J24: =SUM(J14:J23) -> 124.5 | K24: =SUM(K14:K23) -> 20.3 | L24: =SUM(L14:L21) -> 0 | M24: =SUM(M14:M23) -> 144.8
B26: CÁCH TÍNH: | C26: Cột (6), (7): | D26: Nhập tổng hệ số = 1+ (Hệ số thứ nhất - 1 + Hệ số thứ hai - 1 + … -1), không tính hệ số quy đổi thực hành sang tiết chuẩn
C27: Cột (8): | D27: Nhập đúng số tiết thực dạy
C28: Cột (11): | D28: Khối lượng công tác cộng thêm (nếu có) theo điều 16 Quy định 1863.
M30: Ngày …... tháng ….. năm 2016
B31: TRƯỞNG KHOA | F31: TRƯỞNG TỔ | M31: GIÁO VIÊN
F37: Trần Đình Khải | M37: Nguyễn Tam Cương

Sheet Dung
C1: ỦY BAN NHÂN DÂN TP.HCM | J1: CỘNG HÒA XÃ HỘI CHỦ NGHĨA VIỆT NAM
C2: TRƯỜNG CĐ KỸ THUẬT LÝ TỰ TRỌNG | J2: Độc lập - Tự do - Hạnh phúc
G5: BẢNG KÊ KHỐI LƯỢNG CÔNG TÁC GIẢNG DẠY CỦA GIÁO VIÊN - GIẢNG VIÊN
E6: TRONG HỌC KỲ: | F6: I | G6: - | H6: Năm học: | J6: 2015 - 2016
C7: Họ và tên giáo viên: | D7: Nguyễn Tiến Dũng | F7: Tổ: | G7: Công nghệ chế tạo | K7: Khoa : | L7: Công nghệ cơ khí
L8: (Đơn vị tính: tiết)
A9: TT | B9: Từ | C9: Đến | D9: Số tuần thực dạy | E9: Môn dạy | F9: Lớp dạy | G9: Tổng hệ số | I9: Thực hiện
B10: Ngày…07 | C10: Ngày…19 | I10: Thực giảng dạy | K10: Kiêm Nhiệm | L10: Khối luợng công tác cộng thêm | M10: Tổng thực hiện | N10: Ghi
B11: Tháng…09 | C11: Tháng…12 | G11: LT | H11: TH | I11: Chưa nhân | J11: Đã nhân | N11: Chú
B12: Năm .2015 | C12: Năm 2015 | I12: hệ số | J12: hệ số
A13: (1) | B13: (2) | D13: (3) | E13: (4) | F13: (5) | G13: (6) | H13: (7) | I13: (8) | J13: (9) | K13: (10) | L13: (11) | M13: (12) | N13: (13)
A14: 01 | B14: 42254 | C14: 42287 | D14: 5 | E14: Autocad 2D (SS 66) | F14: 14CĐ- CK1 | G14: 1.3 | I14: 10 | J14: =ROUND(IF(G14>0,G14*I14,"0")+IF(H14>0,(I14/1.5)*H14,"0"),1) -> 13 | M14: =ROUND(J14+K14+L14,1) -> 13
A15: 02 | B15: 42254 | C15: 42287 | D15: 5 | E15: Autocad 2D (SS 71) | F15: 14CĐ- CK2 | G15: 1.3 | I15: 10 | J15: =ROUND(IF(G15>0,G15*I15,"0")+IF(H15>0,(I15/1.5)*H15,"0"),1) -> 13 | M15: =ROUND(J15+K15+L15,1) -> 13
A16: 03 | B16: 42254 | C16: 42287 | D16: 5 | E16: Autocad 2D (SS 66) | F16: 14CĐ- CK3 | G16: 1.3 | I16: 10 | J16: =ROUND(IF(G16>0,G16*I16,"0")+IF(H16>0,(I16/1.5)*H16,"0"),1) -> 13 | M16: =ROUND(J16+K16+L16,1) -> 13
A17: 04 | B17: 42289 | C17: 42357 | D17: 10 | E17: Autocad 2D (SS 51) | F17: 14CĐ- CK1 | G17: 1.2 | I17: 20 | J17: =ROUND(IF(G17>0,G17*I17,"0")+IF(H17>0,(I17/1.5)*H17,"0"),1) -> 24 | M17: =ROUND(J17+K17+L17,1) -> 24
A18: 05 | B18: 42289 | C18: 42357 | D18: 10 | E18: Autocad 2D (SS 55) | F18: 14CĐ- CK2 | G18: 1.2 | I18: 20 | J18: =ROUND(IF(G18>0,G18*I18,"0")+IF(H18>0,(I18/1.5)*H18,"0"),1) -> 24 | M18: =ROUND(J18+K18+L18,1) -> 24
A19: 06 | B19: 42289 | C19: 42357 | D19: 10 | E19: Autocad 2D (SS 51) | F19: 14CĐ- CK3 | G19: 1.2 | I19: 20 | J19: =ROUND(IF(G19>0,G19*I19,"0")+IF(H19>0,(I19/1.5)*H19,"0"),1) -> 24 | M19: =ROUND(J19+K19+L19,1) -> 24
A20: 07 | B20: 42289 | C20: 42357 | D20: 10 | E20: Autocad 2D (SS 46) | F20: 14CĐ- CK1,2,3 | G20: 1.2 | I20: 20 | J20: =ROUND(IF(G20>0,G20*I20,"0")+IF(H20>0,(I20/1.5)*H20,"0"),1) -> 24 | M20: =ROUND(J20+K20+L20,1) -> 24 | N20: Lớp riêng
A21: 08 | J21: =ROUND(IF(G21>0,G21*I21,"0")+IF(H21>0,(I21/1.5)*H21,"0"),1) -> 0 | M21: =ROUND(J21+K21+L21,1) -> 0
A22: 09 | J22: =ROUND(IF(G22>0,G22*I22,"0")+IF(H22>0,(I22/1.5)*H22,"0"),1) -> 0 | M22: =ROUND(J22+K22+L22,1) -> 0
A23: 10 | E23: CVHT | F23: 14CĐ-CK3 | G23: 15 | J23: =ROUND(IF(G23>0,G23*I23,"0")+IF(H23>0,(I23/1.5)*H23,"0"),1) -> 0 | K23: =IF(E23="CVHT",ROUND((270*G23/100)/2,1),0) -> 20.3 | M23: =ROUND(J23+K23+L23,1) -> 20.3
A24: TỔNG CỘNG (theo tiết) | I24: =SUM(I14:I23) -> 110 | J24: =SUM(J14:J23) -> 135 | K24: =SUM(K14:K23) -> 20.3 | L24: =SUM(L14:L21) -> 0 | M24: =SUM(M14:M23) -> 155.3
B26: CÁCH TÍNH: | C26: Cột (6), (7): | D26: Nhập tổng hệ số = 1+ (Hệ số thứ nhất - 1 + Hệ số thứ hai - 1 + … -1), không tính hệ số quy đổi thực hành sang tiết chuẩn
C27: Cột (8): | D27: Nhập đúng số tiết thực dạy
C28: Cột (11): | D28: Khối lượng công tác cộng thêm (nếu có) theo điều 16 Quy định 1863.
M30: Ngày 16 tháng 4 năm 2016
B31: TRƯỞNG KHOA | F31: TRƯỞNG BỘ MÔN | M31: GIÁO VIÊN
F37: Trần Đình Khải | M37: Nguyễn Tiến Dũng

Sheet Hai
C1: ỦY BAN NHÂN DÂN TP.HCM | J1: CỘNG HÒA XÃ HỘI CHỦ NGHĨA VIỆT NAM
C2: TRƯỜNG CĐ KỸ THUẬT LÝ TỰ TRỌNG | J2: Độc lập - Tự do - Hạnh phúc
G5: BẢNG KÊ KHỐI LƯỢNG CÔNG TÁC GIẢNG DẠY CỦA GIÁO VIÊN - GIẢNG VIÊN
E6: TRONG HỌC KỲ: | F6: I | G6: - | H6: Năm học: | J6: 2015 - 2016
C7: Họ và tên giáo viên: | D7: Nguyễn Duy Hải | F7: Tổ: | G7: Kỹ thuật cơ sở | K7: Khoa : | L7: Công nghệ cơ khí
L8: (Đơn vị tính: tiết)
A9: TT | B9: Từ | C9: Đến | D9: Số tuần thực dạy | E9: Môn Dạy | F9: Lớp dạy | G9: Tổng hệ số | I9: Thực hiện
B10: Ngày… | C10: Ngày… | I10: Thực giảng dạy | K10: Kiêm Nhiệm | L10: Khối luợng công tác cộng thêm | M10: Tổng thực hiện | N10: Ghi
B11: Tháng… | C11: Tháng… | G11: LT | H11: TH | I11: Chưa nhân | J11: Đã nhân | N11: Chú
B12: Năm…. | C12: Năm…. | I12: hệ số | J12: hệ số
A13: (1) | B13: (2) | D13: (3) | E13: (4) | F13: (5) | G13: (6) | H13: (7) | I13: (8) | J13: (9) | K13: (10) | L13: (11) | M13: (12) | N13: (13)
A14: 01 | B14: 42254 | C14: 42295 | E14: Thực tập phay 1 (Nhóm 1) | F14: 13CĐ CK2 | H14: 1.1 | I14: 60 | J14: =ROUND(IF(G14>0,G14*I14,"0")+IF(H14>0,(I14/1.5)*H14,"0"),1) -> 44 | M14: =ROUND(J14+K14+L14,1) -> 44
A15: 02 | B15: 42254 | C15: 42295 | E15: Thực tập phay 1 (Nhóm 2) | F15: 13CĐ CK2 | H15: 1.1 | I15: 60 | J15: =ROUND(IF(G15>0,G15*I15,"0")+IF(H15>0,(I15/1.5)*H15,"0"),1) -> 44 | M15: =ROUND(J15+K15+L15,1) -> 44
A16: 03 | B16: 42296 | C16: 42337 | E16: Thực tập phay 1 | F16: 13CĐ CK4 | H16: 1.1 | I16: 60 | J16: =ROUND(IF(G16>0,G16*I16,"0")+IF(H16>0,(I16/1.5)*H16,"0"),1) -> 44 | M16: =ROUND(J16+K16+L16,1) -> 44
A17: 04 | B17: 42261 | C17: 42330 | E17: T- tập phay, bào, mài cơ bản | F17: 14TC CK-T | H17: 1 | I17: 120 | J17: =ROUND(IF(G17>0,G17*I17,"0")+IF(H17>0,(I17/1.5)*H17,"0"),1) -> 80 | M17: =ROUND(J17+K17+L17,1) -> 80
A18: 05 | J18: =ROUND(IF(G18>0,G18*I18,"0")+IF(H18>0,(I18/1.5)*H18,"0"),1) -> 0 | M18: =ROUND(J18+K18+L18,1) -> 0
A19: 06 | J19: =ROUND(IF(G19>0,G19*I19,"0")+IF(H19>0,(I19/1.5)*H19,"0"),1) -> 0 | M19: =ROUND(J19+K19+L19,1) -> 0
A20: 07 | J20: =ROUND(IF(G20>0,G20*I20,"0")+IF(H20>0,(I20/1.5)*H20,"0"),1) -> 0 | M20: =ROUND(J20+K20+L20,1) -> 0
A21: 08 | J21: =ROUND(IF(G21>0,G21*I21,"0")+IF(H21>0,(I21/1.5)*H21,"0"),1) -> 0 | M21: =ROUND(J21+K21+L21,1) -> 0
A22: 09 | J22: =ROUND(IF(G22>0,G22*I22,"0")+IF(H22>0,(I22/1.5)*H22,"0"),1) -> 0 | M22: =ROUND(J22+K22+L22,1) -> 0
A23: 10 | E23: Trưởng bộ môn | G23: 20 | J23: =ROUND(IF(G23>0,G23*I23,"0")+IF(H23>0,(I23/1.5)*H23,"0"),1) -> 0 | K23: =ROUND((270*G23/100)/2,1) -> 27 | M23: =ROUND(J23+K23+L23,1) -> 27
A24: TỔNG CỘNG (theo tiết) | I24: =SUM(I14:I23) -> 300 | J24: =SUM(J14:J23) -> 212 | K24: =SUM(K14:K23) -> 27 | L24: =SUM(L14:L21) -> 0 | M24: =SUM(M14:M23) -> 239
B26: CÁCH TÍNH: | C26: Cột (6), (7): | D26: Nhập tổng hệ số = 1+ (Hệ số thứ nhất - 1 + Hệ số thứ hai - 1 + … -1), không tính hệ số quy đổi thực hành sang tiết chuẩn
C27: Cột (8): | D27: Nhập đúng số tiết thực dạy
C28: Cột (11): | D28: Khối lượng công tác cộng thêm (nếu có) theo điều 16 Quy định 1863.
M30: Ngày …... tháng ….. năm 2016
B31: TRƯỞNG KHOA | F31: TRƯỞNG TỔ | M31: GIÁO VIÊN
F37: Nguyễn Duy Hải | M37: Nguyễn Duy Hải

Sheet D.Hong
C1: ỦY BAN NHÂN DÂN TP.HCM | J1: CỘNG HÒA XÃ HỘI CHỦ NGHĨA VIỆT NAM
C2: TRƯỜNG CĐ KỸ THUẬT LÝ TỰ TRỌNG | J2: Độc lập - Tự do - Hạnh phúc
G5: BẢNG KÊ KHỐI LƯỢNG CÔNG TÁC GIẢNG DẠY CỦA GIÁO VIÊN - GIẢNG VIÊN
E6: TRONG HỌC KỲ: | F6: I | G6: - | H6: Năm học: | J6: 2015 - 2016
C7: Họ và tên giáo viên: | D7: Dương Thị Hồng | F7: Tổ: | G7: Kỹ thuật cơ sở | K7: Khoa : | L7: Công nghệ cơ khí
L8: (Đơn vị tính: tiết)
A9: TT | B9: Từ | C9: Đến | D9: Số tuần thực dạy | E9: Môn Dạy | F9: Lớp dạy | G9: Tổng hệ số | I9: Thực hiện
B10: Ngày… | C10: Ngày… | I10: Thực giảng dạy | K10: Kiêm Nhiệm | L10: Khối luợng công tác cộng thêm | M10: Tổng thực hiện | N10: Ghi
B11: Tháng… | C11: Tháng… | G11: LT | H11: TH | I11: Chưa nhân | J11: Đã nhân | N11: Chú
B12: Năm…. | C12: Năm…. | I12: hệ số | J12: hệ số
A13: (1) | B13: (2) | D13: (3) | E13: (4) | F13: (5) | G13: (6) | H13: (7) | I13: (8) | J13: (9) | K13: (10) | L13: (11) | M13: (12) | N13: (13)
A14: 01 | B14: 42289 | C14: 42387 | E14: An toàn và MTCN | F14: 15CĐ CK5 | G14: 1.2 | I14: 30 | J14: =ROUND(IF(G14>0,G14*I14,"0")+IF(H14>0,(I14/1.5)*H14,"0"),1) -> 36 | M14: =ROUND(J14+K14+L14,1) -> 36
A15: 02 | B15: 42291 | C15: 42389 | E15: An toàn và MTCN | F15: 15CĐ CK7 | G15: 1.2 | I15: 30 | J15: =ROUND(IF(G15>0,G15*I15,"0")+IF(H15>0,(I15/1.5)*H15,"0"),1) -> 36 | M15: =ROUND(J15+K15+L15,1) -> 36
A16: 03 | B16: 42298 | C16: 42399 | E16: Cơ kỹ thuật | F16: 15TCN-CKL | G16: 1.1 | I16: 60 | J16: =ROUND(IF(G16>0,G16*I16,"0")+IF(H16>0,(I16/1.5)*H16,"0"),1) -> 66 | M16: =ROUND(J16+K16+L16,1) -> 66
A17: 04 | B17: 42296 | C17: 42394 | E17: Cơ ứng dụng | F17: 15CĐN-Ô | G17: 1.2 | I17: 45 | J17: =ROUND(IF(G17>0,G17*I17,"0")+IF(H17>0,(I17/1.5)*H17,"0"),1) -> 54 | M17: =ROUND(J17+K17+L17,1) -> 54
A18: 05 | J18: =ROUND(IF(G18>0,G18*I18,"0")+IF(H18>0,(I18/1.5)*H18,"0"),1) -> 0 | M18: =ROUND(J18+K18+L18,1) -> 0
A19: 06 | J19: =ROUND(IF(G19>0,G19*I19,"0")+IF(H19>0,(I19/1.5)*H19,"0"),1) -> 0 | M19: =ROUND(J19+K19+L19,1) -> 0
A20: 07 | J20: =ROUND(IF(G20>0,G20*I20,"0")+IF(H20>0,(I20/1.5)*H20,"0"),1) -> 0 | M20: =ROUND(J20+K20+L20,1) -> 0
A21: 08 | J21: =ROUND(IF(G21>0,G21*I21,"0")+IF(H21>0,(I21/1.5)*H21,"0"),1) -> 0 | M21: =ROUND(J21+K21+L21,1) -> 0
A22: 09 | J22: =ROUND(IF(G22>0,G22*I22,"0")+IF(H22>0,(I22/1.5)*H22,"0"),1) -> 0 | M22: =ROUND(J22+K22+L22,1) -> 0
A23: 10 | G23: 15 | J23: =ROUND(IF(G23>0,G23*I23,"0")+IF(H23>0,(I23/1.5)*H23,"0"),1) -> 0 | K23: =IF(E23="CVHT",ROUND((270*G23/100)/2,1),0) -> 0 | M23: =ROUND(J23+K23+L23,1) -> 0
A24: TỔNG CỘNG (theo tiết) | I24: =SUM(I14:I23) -> 165 | J24: =SUM(J14:J23) -> 192 | K24: =SUM(K14:K23) -> 0 | L24: =SUM(L14:L21) -> 0 | M24: =SUM(M14:M23) -> 192
B26: CÁCH TÍNH: | C26: Cột (6), (7): | D26: Nhập tổng hệ số = 1+ (Hệ số thứ nhất - 1 + Hệ số thứ hai - 1 + … -1), không tính hệ số quy đổi thực hành sang tiết chuẩn
C27: Cột (8): | D27: Nhập đúng số tiết thực dạy
C28: Cột (11): | D28: Khối lượng công tác cộng thêm (nếu có) theo điều 16 Quy định 1863.
M30: Ngày …... tháng ….. năm 2016
B31: TRƯỞNG KHOA | F31: TRƯỞNG TỔ | M31: GIÁO VIÊN
F37: Nguyễn Duy Hải | M37: Dương Thị Hồng

Sheet Tr.Hong
C1: ỦY BAN NHÂN DÂN TP.HCM | J1: CỘNG HÒA XÃ HỘI CHỦ NGHĨA VIỆT NAM
C2: TRƯỜNG CĐ KỸ THUẬT LÝ TỰ TRỌNG | J2: Độc lập - Tự do - Hạnh phúc
G5: BẢNG KÊ KHỐI LƯỢNG CÔNG TÁC GIẢNG DẠY CỦA GIÁO VIÊN - GIẢNG VIÊN
E6: TRONG HỌC KỲ: | F6: I | G6: - | H6: Năm học: | J6: 2015 - 2016
C7: Họ và tên giáo viên: | D7: Trương Thị Phương Hồng | F7: Tổ: | G7: Cơ điện-Cơ điện tử | K7: Khoa : | L7: Công nghệ cơ khí
L8: (Đơn vị tính: tiết)
A9: TT | B9: Từ | C9: Đến | D9: Số tuần thực dạy | E9: Môn Dạy | F9: Lớp dạy | G9: Tổng hệ số | I9: Thực hiện
B10: Ngày… | C10: Ngày… | I10: Thực giảng dạy | K10: Kiêm Nhiệm | L10: Khối luợng công tác cộng thêm | M10: Tổng thực hiện | N10: Ghi
B11: Tháng… | C11: Tháng… | G11: LT | H11: TH | I11: Chưa nhân | J11: Đã nhân | N11: Chú
B12: Năm…. | C12: Năm…. | I12: hệ số | J12: hệ số
A13: (1) | B13: (2) | D13: (3) | E13: (4) | F13: (5) | G13: (6) | H13: (7) | I13: (8) | J13: (9) | K13: (10) | L13: (11) | M13: (12) | N13: (13)
A14: 01 | E14: Vật liệu học | F14: 14 CĐ-CK1 | G14: 1.3 | I14: 30 | J14: =ROUND(IF(G14>0,G14*I14,"0")+IF(H14>0,(I14/1.5)*H14,"0"),1) -> 39 | M14: =ROUND(J14+K14+L14,1) -> 39 | N14: 66 sv
A15: 02 | E15: Vật liệu học | F15: 14 CĐ-CK2 | G15: 1.3 | I15: 30 | J15: =ROUND(IF(G15>0,G15*I15,"0")+IF(H15>0,(I15/1.5)*H15,"0"),1) -> 39 | M15: =ROUND(J15+K15+L15,1) -> 39 | N15: 62 sv
A16: 03 | E16: Vật liệu học | F16: 14 CĐ-Ô2 | G16: 1.2 | I16: 30 | J16: =ROUND(IF(G16>0,G16*I16,"0")+IF(H16>0,(I16/1.5)*H16,"0"),1) -> 36 | M16: =ROUND(J16+K16+L16,1) -> 36 | N16: 57 sv
A17: 04 | E17: Vật liệu học | F17: 14 CĐ-Ô3 | G17: 1.3 | I17: 30 | J17: =ROUND(IF(G17>0,G17*I17,"0")+IF(H17>0,(I17/1.5)*H17,"0"),1) -> 39 | M17: =ROUND(J17+K17+L17,1) -> 39 | N17: 61 sv
A18: 05 | E18: Vật liệu học | F18: 14 CĐ-Ô4 | G18: 1.2 | I18: 30 | J18: =ROUND(IF(G18>0,G18*I18,"0")+IF(H18>0,(I18/1.5)*H18,"0"),1) -> 36 | M18: =ROUND(J18+K18+L18,1) -> 36 | N18: 57 sv
A19: 06 | E19: Công nghệ kim loại | F19: 14 CĐ-Ô1 | G19: 1.2 | I19: 30 | J19: =ROUND(IF(G19>0,G19*I19,"0")+IF(H19>0,(I19/1.5)*H19,"0"),1) -> 36 | M19: =ROUND(J19+K19+L19,1) -> 36 | N19: 58 sv
A20: 07 | E20: Công nghệ kim loại | F20: 14 CĐ-Ô2 | G20: 1.2 | I20: 30 | J20: =ROUND(IF(G20>0,G20*I20,"0")+IF(H20>0,(I20/1.5)*H20,"0"),1) -> 36 | M20: =ROUND(J20+K20+L20,1) -> 36 | N20: 56 sv
A21: 08 | E21: Công nghệ kim loại | F21: 14 CĐ-Ô3 | G21: 1.2 | I21: 30 | J21: =ROUND(IF(G21>0,G21*I21,"0")+IF(H21>0,(I21/1.5)*H21,"0"),1) -> 36 | M21: =ROUND(J21+K21+L21,1) -> 36 | N21: 57 sv
A22: 09 | E22: Công nghệ Cad/cam | F22: 13 CĐ-CK | G22: 1.1 | I22: 30 | J22: =ROUND(IF(G22>0,G22*I22,"0")+IF(H22>0,(I22/1.5)*H22,"0"),1) -> 33 | M22: =ROUND(J22+K22+L22,1) -> 33 | N22: 37 sv
A23: TỔNG CỘNG (theo tiết) | I23: =SUM(I14:I21) -> 240 | J23: =SUM(J14:J22) -> 330 | K23: =SUM(K14:K22) -> 0 | L23: =SUM(L14:L21) -> 0 | M23: =SUM(M14:M22) -> 330
B25: CÁCH TÍNH: | C25: Cột (6), (7): | D25: Nhập tổng hệ số = 1+ (Hệ số thứ nhất - 1 + Hệ số thứ hai - 1 + … -1), không tính hệ số quy đổi thực hành sang tiết chuẩn
C26: Cột (8): | D26: Nhập đúng số tiết thực dạy
C27: Cột (11): | D27: Khối lượng công tác cộng thêm (nếu có) theo điều 16 Quy định 1863.
M29: Ngày …... tháng ….. năm 2016
B30: TRƯỞNG KHOA | F30: TRƯỞNG TỔ | M30: GIÁO VIÊN
F36: Bùi Anh Tuấn | M36: Trương Thị Phương Hồng

Sheet Huong
C1: ỦY BAN NHÂN DÂN TP.HCM | J1: CỘNG HÒA XÃ HỘI CHỦ NGHĨA VIỆT NAM
C2: TRƯỜNG CĐ KỸ THUẬT LÝ TỰ TRỌNG | J2: Độc lập - Tự do - Hạnh phúc
G5: BẢNG KÊ KHỐI LƯỢNG CÔNG TÁC GIẢNG DẠY CỦA GIÁO VIÊN - GIẢNG VIÊN
E6: TRONG HỌC KỲ: | F6: I | G6: - | H6: Năm học: | J6: 2015 - 2016
C7: Họ và tên giáo viên: | D7: Trần Thị Hương | F7: Tổ: | G7: Kỹ thuật cơ sở | K7: Khoa : | L7: Công nghệ cơ khí
L8: (Đơn vị tính: tiết)
A9: TT | B9: Từ | C9: Đến | D9: Số tuần thực dạy | E9: Môn Dạy | F9: Lớp dạy | G9: Tổng hệ số | I9: Thực hiện
B10: Ngày… | C10: Ngày… | I10: Thực giảng dạy | K10: Kiêm Nhiệm | L10: Khối luợng công tác cộng thêm | M10: Tổng thực hiện | N10: Ghi
B11: Tháng… | C11: Tháng… | G11: LT | H11: TH | I11: Chưa nhân | J11: Đã nhân | N11: Chú
B12: Năm…. | C12: Năm…. | I12: hệ số | J12: hệ số
A13: (1) | B13: (2) | D13: (3) | E13: (4) | F13: (5) | G13: (6) | H13: (7) | I13: (8) | J13: (9) | K13: (10) | L13: (11) | M13: (12) | N13: (13)
A14: 01 | B14: 42286 | C14: 17/12/15 | D14: 15 | E14: Truyền động TL-KN | F14: 13CĐ - CK3 | G14: 1.2 | I14: 30 | J14: =ROUND(IF(G14>0,G14*I14,"0")+IF(H14>0,(I14/1.5)*H14,"0"),1) -> 36 | M14: =ROUND(J14+K14+L14,1) -> 36 | N14: 57 SV
A15: 02 | B15: 42286 | C15: 17/12/15 | D15: 15 | E15: Truyền động TL-KN | F15: 13CĐ - CK1 | G15: 1.2 | I15: 30 | J15: =ROUND(IF(G15>0,G15*I15,"0")+IF(H15>0,(I15/1.5)*H15,"0"),1) -> 36 | M15: =ROUND(J15+K15+L15,1) -> 36 | N15: 57 SV
A16: 03 | B16: 42317 | C16: 17/10/15 | D16: 12 | E16: Thực tập tiện 1 | F16: 14CĐ - CK3 | H16: 1.1 | I16: 60 | J16: =ROUND(IF(G16>0,G16*I16,"0")+IF(H16>0,(I16/1.5)*H16,"0"),1) -> 44 | M16: =ROUND(J16+K16+L16,1) -> 44 | N16: 25 SV
A17: 04 | B17: 42226 | C17: 14/1/16 | D17: 15 | E17: Vật liệu cơ khí | F17: 15TN - Ô + học lại | G17: 1.3 | I17: 30 | J17: =ROUND(IF(G17>0,G17*I17,"0")+IF(H17>0,(I17/1.5)*H17,"0"),1) -> 39 | M17: =ROUND(J17+K17+L17,1) -> 39 | N17: 93 SV
A18: 05 | B18: 20/10/15 | C18: 26/1/16 | D18: 15 | E18: Vật liệu cơ khí | F18: 15TCN - CKL | G18: 1.1 | I18: 30 | J18: =ROUND(IF(G18>0,G18*I18,"0")+IF(H18>0,(I18/1.5)*H18,"0"),1) -> 33 | M18: =ROUND(J18+K18+L18,1) -> 33 | N18: 52 SV
A19: 06 | B19: 19/10/15 | C19: 25/1/16 | E19: Vật liệu học | F19: 15CĐN - Ô | G19: 1.2 | I19: 30 | J19: =ROUND(IF(G19>0,G19*I19,"0")+IF(H19>0,(I19/1.5)*H19,"0"),1) -> 36 | M19: =ROUND(J19+K19+L19,1) -> 36 | N19: 66 SV
A20: 07 | J20: =ROUND(IF(G20>0,G20*I20,"0")+IF(H20>0,(I20/1.5)*H20,"0"),1) -> 0 | M20: =ROUND(J20+K20+L20,1) -> 0
A21: 08 | J21: =ROUND(IF(G21>0,G21*I21,"0")+IF(H21>0,(I21/1.5)*H21,"0"),1) -> 0 | M21: =ROUND(J21+K21+L21,1) -> 0
A22: 09 | J22: =ROUND(IF(G22>0,G22*I22,"0")+IF(H22>0,(I22/1.5)*H22,"0"),1) -> 0 | M22: =ROUND(J22+K22+L22,1) -> 0
A23: 10 | E23: CVHT | F23: 14CĐ - CK2 | G23: 15 | J23: =ROUND(IF(G23>0,G23*I23,"0")+IF(H23>0,(I23/1.5)*H23,"0"),1) -> 0 | K23: =IF(E23="CVHT",ROUND((270*G23/100)/2,1),0) -> 20.3 | M23: =ROUND(J23+K23+L23,1) -> 20.3
A24: TỔNG CỘNG (theo tiết) | I24: =SUM(I14:I23) -> 210 | J24: =SUM(J14:J23) -> 224 | K24: =SUM(K14:K23) -> 20.3 | L24: =SUM(L14:L21) -> 0 | M24: =SUM(M14:M23) -> 244.3
B26: CÁCH TÍNH: | C26: Cột (6), (7): | D26: Nhập tổng hệ số = 1+ (Hệ số thứ nhất - 1 + Hệ số thứ hai - 1 + … -1), không tính hệ số quy đổi thực hành sang tiết chuẩn
C27: Cột (8): | D27: Nhập đúng số tiết thực dạy
C28: Cột (11): | D28: Khối lượng công tác cộng thêm (nếu có) theo điều 16 Quy định 1863.
M30: Ngày …... tháng ….. năm 2016
B31: TRƯỞNG KHOA | F31: TRƯỞNG TỔ | M31: GIÁO VIÊN
F37: Nguyễn Duy Hải | M37: Trần Thị Hương

Sheet D.Khai
C1: ỦY BAN NHÂN DÂN TP.HCM | J1: CỘNG HÒA XÃ HỘI CHỦ NGHĨA VIỆT NAM
C2: TRƯỜNG CĐ KỸ THUẬT LÝ TỰ TRỌNG | J2: Độc lập - Tự do - Hạnh phúc
G5: BẢNG KÊ KHỐI LƯỢNG CÔNG TÁC GIẢNG DẠY CỦA GIÁO VIÊN - GIẢNG VIÊN
E6: TRONG HỌC KỲ: | F6: I | G6: - | H6: Năm học: | J6: 2015 - 2016
C7: Họ và tên giáo viên: | D7: Trần Đình Khải | F7: Tổ: | G7: Công nghệ chế tạo | K7: Khoa : | L7: Công nghệ cơ khí
L8: (Đơn vị tính: tiết)
A9: TT | B9: Từ | C9: Đến | D9: Số tuần thực dạy | E9: Môn Dạy | F9: Lớp dạy | G9: Tổng hệ số | I9: Thực hiện
B10: Ngày… | C10: Ngày… | I10: Thực giảng dạy | K10: Kiêm Nhiệm | L10: Khối luợng công tác cộng thêm | M10: Tổng thực hiện | N10: Ghi
B11: Tháng… | C11: Tháng… | G11: LT | H11: TH | I11: Chưa nhân | J11: Đã nhân | N11: Chú
B12: Năm…. | C12: Năm…. | I12: hệ số | J12: hệ số
A13: (1) | B13: (2) | D13: (3) | E13: (4) | F13: (5) | G13: (6) | H13: (7) | I13: (8) | J13: (9) | K13: (10) | L13: (11) | M13: (12) | N13: (13)
A14: 01 | B14: 42254 | C14: 42287 | D14: 5 | E14: TT Hàn | F14: 14CĐ - Ô5 | H14: 1.1 | I14: 60 | J14: =ROUND(IF(G14>0,G14*I14,"0")+IF(H14>0,(I14/1.5)*H14,"0"),1) -> 44 | M14: =ROUND(J14+K14+L14,1) -> 44 | N14: 2 nhóm
A15: 02 | B15: 42254 | C15: 42287 | D15: 5 | E15: TT Hàn | F15: 14CĐ - Ô4 | H15: 1.1 | I15: 30 | J15: =ROUND(IF(G15>0,G15*I15,"0")+IF(H15>0,(I15/1.5)*H15,"0"),1) -> 22 | M15: =ROUND(J15+K15+L15,1) -> 22 | N15: 1 nhóm
A16: 03 | B16: 42289 | C16: 42322 | D16: 5 | E16: TT Hàn | F16: 14CĐ - Ô1 | H16: 1.1 | I16: 30 | J16: =ROUND(IF(G16>0,G16*I16,"0")+IF(H16>0,(I16/1.5)*H16,"0"),1) -> 22 | M16: =ROUND(J16+K16+L16,1) -> 22 | N16: 1 nhóm
A17: 04 | B17: 42310 | C17: 42357 | D17: 7 | E17: TT Hàn | F17: 14CĐ - CK3 | H17: 1.1 | I17: 84 | J17: =ROUND(IF(G17>0,G17*I17,"0")+IF(H17>0,(I17/1.5)*H17,"0"),1) -> 61.6 | M17: =ROUND(J17+K17+L17,1) -> 61.6 | N17: 2 nhóm
A18: 05 | B18: 42324 | C18: 42399 | D18: 10 | E18: TT Nguội CB | F18: 15CĐN-Ô | H18: 1.2 | I18: 60 | J18: =ROUND(IF(G18>0,G18*I18,"0")+IF(H18>0,(I18/1.5)*H18,"0"),1) -> 48 | M18: =ROUND(J18+K18+L18,1) -> 48 | N18: lớp đông(45)
A19: 06 | B19: 42254 | C19: 42357 | D19: 15 | E19: Công nghệ CTM2 | F19: 14TC-CKTP | G19: 1 | I19: 60 | J19: =ROUND(IF(G19>0,G19*I19,"0")+IF(H19>0,(I19/1.5)*H19,"0"),1) -> 60 | M19: =ROUND(J19+K19+L19,1) -> 60
A20: 07 | B20: 42254 | C20: 42357 | D20: 15 | E20: Đồ gá | F20: 13CĐ - CK1 | G20: 1.2 | I20: 30 | J20: =ROUND(IF(G20>0,G20*I20,"0")+IF(H20>0,(I20/1.5)*H20,"0"),1) -> 36 | M20: =ROUND(J20+K20+L20,1) -> 36 | N20: 57 SV
A21: 08 | B21: 42254 | C21: 42357 | D21: 15 | E21: Đồ gá | F21: 13CĐ - CK2 | G21: 1.2 | I21: 30 | J21: =ROUND(IF(G21>0,G21*I21,"0")+IF(H21>0,(I21/1.5)*H21,"0"),1) -> 36 | M21: =ROUND(J21+K21+L21,1) -> 36 | N21: 57 SV
A22: 09 | B22: 42315 | C22: 42357 | D22: 7 | E22: Đồ gá | F22: 13CĐ - CK3 | G22: 1.2 | I22: 14 | J22: =ROUND(IF(G22>0,G22*I22,"0")+IF(H22>0,(I22/1.5)*H22,"0"),1) -> 16.8 | M22: =ROUND(J22+K22+L22,1) -> 16.8 | N22: 57 SV
A23: 10 | E23: Trưởng bộ môn | F23: CN CT | G23: 20 | K23: =ROUND((270*G23/100)/2,1) -> 27 | M23: =ROUND(J23+K23+L23,1) -> 27
A24: TỔNG CỘNG (theo tiết) | I24: =SUM(I14:I23) -> 398 | J24: =SUM(J14:J23) -> 346.4 | K24: =SUM(K14:K23) -> 27 | L24: =SUM(L14:L23) -> 0 | M24: =SUM(M14:M23) -> 373.4
B26: CÁCH TÍNH: | C26: Cột (6), (7): | D26: Nhập tổng hệ số = 1+ (Hệ số thứ nhất - 1 + Hệ số thứ hai - 1 + … -1), không tính hệ số quy đổi thực hành sang tiết chuẩn
C27: Cột (8): | D27: Nhập đúng số tiết thực dạy
C28: Cột (11): | D28: Khối lượng công tác cộng thêm (nếu có) theo điều 16 Quy định 1863.
M30: Ngày …... tháng ….. năm 2016
B31: TRƯỞNG KHOA | F31: TRƯỞNG TỔ | M31: GIÁO VIÊN
F37: Trần Đình Khải | M37: Trần Đình Khải

Sheet Q.Khai
C1: ỦY BAN NHÂN DÂN TP.HCM | J1: CỘNG HÒA XÃ HỘI CHỦ NGHĨA VIỆT NAM
C2: TRƯỜNG CĐ KỸ THUẬT LÝ TỰ TRỌNG | J2: Độc lập - Tự do - Hạnh phúc
G5: BẢNG KÊ KHỐI LƯỢNG CÔNG TÁC GIẢNG DẠY CỦA GIÁO VIÊN - GIẢNG VIÊN
E6: TRONG HỌC KỲ: | F6: I | G6: - | H6: Năm học: | J6: 2015 - 2016
C7: Họ và tên giáo viên: | D7: Vũ Quang Khải | F7: Tổ: | G7: Kỹ thuật cơ sở | K7: Khoa : | L7: Công nghệ cơ khí
L8: (Đơn vị tính: tiết)
A9: TT | B9: Từ | C9: Đến | D9: Số tuần thực dạy | E9: Môn Dạy | F9: Lớp dạy | G9: Tổng hệ số | I9: Thực hiện
B10: Ngày… | C10: Ngày… | I10: Thực giảng dạy | K10: Kiêm Nhiệm | L10: Khối luợng công tác cộng thêm | M10: Tổng thực hiện | N10: Ghi
B11: Tháng… | C11: Tháng… | G11: LT | H11: TH | I11: Chưa nhân | J11: Đã nhân | N11: Chú
B12: Năm…. | C12: Năm…. | I12: hệ số | J12: hệ số
A13: (1) | B13: (2) | D13: (3) | E13: (4) | F13: (5) | G13: (6) | H13: (7) | I13: (8) | J13: (9) | K13: (10) | L13: (11) | M13: (12) | N13: (13)
A14: 01 | B14: 42289 | C14: 42399 | D14: 10 | E14: VẼ KỸ THUẬT | F14: 15CĐ- NL1 | G14: 1.2 | I14: 30 | J14: =ROUND(IF(G14>0,G14*I14,"0")+IF(H14>0,(I14/1.5)*H14,"0"),1) -> 36 | M14: =ROUND(J14+K14+L14,1) -> 36
A15: 02 | B15: 42289 | C15: 42399 | D15: 10 | E15: VẼ KỸ THUẬT | F15: 15CĐ- NL3 | G15: 1.3 | I15: 30 | J15: =ROUND(IF(G15>0,G15*I15,"0")+IF(H15>0,(I15/1.5)*H15,"0"),1) -> 39 | M15: =ROUND(J15+K15+L15,1) -> 39 | N15: 66 SV
A16: 03 | B16: 42282 | C16: 42399 | D16: 15 | E16: VẼ KỸ THUẬT | F16: 15TCN-Đ | G16: 1 | I16: 30 | J16: =ROUND(IF(G16>0,G16*I16,"0")+IF(H16>0,(I16/1.5)*H16,"0"),1) -> 30 | M16: =ROUND(J16+K16+L16,1) -> 30
A17: 04 | B17: 42282 | C17: 42399 | D17: 15 | E17: VẼ KỸ THUẬT | F17: 15TCN-LĐL | G17: 1 | I17: 30 | J17: =ROUND(IF(G17>0,G17*I17,"0")+IF(H17>0,(I17/1.5)*H17,"0"),1) -> 30 | M17: =ROUND(J17+K17+L17,1) -> 30
A18: 05 | B18: 42289 | C18: 42399 | D18: 15 | E18: VẼ KỸ THUẬT | F18: 15CĐ- Ô5 | G18: 1.2 | I18: 45 | J18: =ROUND(IF(G18>0,G18*I18,"0")+IF(H18>0,(I18/1.5)*H18,"0"),1) -> 54 | M18: =ROUND(J18+K18+L18,1) -> 54
A19: 06 | B19: 42289 | C19: 42399 | D19: 15 | E19: VẼ KỸ THUẬT | F19: 15CĐ- Ô7 | G19: 1.2 | I19: 45 | J19: =ROUND(IF(G19>0,G19*I19,"0")+IF(H19>0,(I19/1.5)*H19,"0"),1) -> 54 | M19: =ROUND(J19+K19+L19,1) -> 54
A20: 07 | B20: 42289 | C20: 42399 | D20: 15 | E20: VẼ KỸ THUẬT | F20: 15CĐ- Ô8 | G20: 1.2 | I20: 45 | J20: =ROUND(IF(G20>0,G20*I20,"0")+IF(H20>0,(I20/1.5)*H20,"0"),1) -> 54 | M20: =ROUND(J20+K20+L20,1) -> 54
A21: 08 | B21: 42289 | C21: 42399 | D21: 15 | E21: VẼ KỸ THUẬT | F21: 15CĐ- Ô9 | G21: 1.2 | I21: 45 | J21: =ROUND(IF(G21>0,G21*I21,"0")+IF(H21>0,(I21/1.5)*H21,"0"),1) -> 54 | M21: =ROUND(J21+K21+L21,1) -> 54
A22: 09 | B22: 42282 | C22: 42399 | D22: 10 | E22: VẼ KỸ THUẬT | F22: 15TC- CK | G22: 1 | I22: 45 | J22: =ROUND(IF(G22>0,G22*I22,"0")+IF(H22>0,(I22/1.5)*H22,"0"),1) -> 45 | M22: =ROUND(J22+K22+L22,1) -> 45
A23: 10 | B23: 42282 | C23: 42399 | E23: CVHT | F23: 15TCN-CKL | G23: 15 | K23: =ROUND((270*G23/100)/2,1) -> 20.3 | M23: =ROUND(J23+K23+L23,1) -> 20.3
A24: TỔNG CỘNG (theo tiết) | I24: =SUM(I14:I23) -> 345 | J24: =SUM(J14:J23) -> 396 | K24: =SUM(K14:K23) -> 20.3 | L24: =SUM(L14:L21) -> 0 | M24: =SUM(M14:M23) -> 416.3
B26: CÁCH TÍNH: | C26: Cột (6), (7): | D26: Nhập tổng hệ số = 1+ (Hệ số thứ nhất - 1 + Hệ số thứ hai - 1 + … -1), không tính hệ số quy đổi thực hành sang tiết chuẩn
C27: Cột (8): | D27: Nhập đúng số tiết thực dạy
C28: Cột (11): | D28: Khối lượng công tác cộng thêm (nếu có) theo điều 16 Quy định 1863.
M30: Ngày …... tháng ….. năm 2016
B31: TRƯỞNG KHOA | F31: TRƯỞNG TỔ | M31: GIÁO VIÊN
F37: Nguyễn Duy Hải | M37: Vũ Quang Khải

Sheet Khanh
C1: ỦY BAN NHÂN DÂN TP.HCM | J1: CỘNG HÒA XÃ HỘI CHỦ NGHĨA VIỆT NAM
C2: TRƯỜNG CĐ KỸ THUẬT LÝ TỰ TRỌNG | J2: Độc lập - Tự do - Hạnh phúc
G5: BẢNG KÊ KHỐI LƯỢNG CÔNG TÁC GIẢNG DẠY CỦA GIÁO VIÊN - GIẢNG VIÊN
E6: TRONG HỌC KỲ: | F6: I | G6: - | H6: Năm học: | J6: 2015 - 2016
C7: Họ và tên giáo viên: | D7: ĐỖ THỊ PHƯƠNG KHANH | F7: Tổ: | G7: Cơ điện-cơ điện tử | K7: Khoa : | L7: Công nghệ cơ khí
L8: (Đơn vị tính: tiết)
A9: TT | B9: Từ | C9: Đến | D9: Số tuần thực dạy | E9: Môn Dạy | F9: Lớp dạy | G9: Tổng hệ số | I9: Thực hiện
B10: Ngày… | C10: Ngày… | I10: Thực giảng dạy | K10: Kiêm Nhiệm | L10: Khối luợng công tác cộng thêm | M10: Tổng thực hiện | N10: Ghi
B11: Tháng… | C11: Tháng… | G11: LT | H11: TH | I11: Chưa nhân | J11: Đã nhân | N11: Chú
B12: Năm…. | C12: Năm…. | I12: hệ số | J12: hệ số
A13: (1) | B13: (2) | D13: (3) | E13: (4) | F13: (5) | G13: (6) | H13: (7) | I13: (8) | J13: (9) | K13: (10) | L13: (11) | M13: (12) | N13: (13)
A14: 01 | B14: 42252 | C14: 42357 | D14: 15 | E14: Anh Văn Chuyên ngành | F14: 14CĐ-CK1 | G14: 1.2 | I14: 30 | J14: 33 | M14: =ROUND(J14+K14+L14,1) -> 33
A15: 02 | B15: 42252 | C15: 42357 | D15: 15 | E15: Anh Văn Chuyên ngành | F15: 14CĐ-CK2 | G15: 1.2 | I15: 30 | J15: =ROUND(IF(G15>0,G15*I15,"0")+IF(H15>0,(I15/1.5)*H15,"0"),1) -> 36 | M15: =ROUND(J15+K15+L15,1) -> 36
A16: 03 | B16: 42252 | C16: 42357 | D16: 15 | E16: Anh Văn Chuyên ngành | F16: 14CĐ-CK3 | G16: 1.2 | I16: 30 | J16: =ROUND(IF(G16>0,G16*I16,"0")+IF(H16>0,(I16/1.5)*H16,"0"),1) -> 36 | M16: =ROUND(J16+K16+L16,1) -> 36
A17: 04 | B17: 42252 | C17: 42357 | D17: 15 | E17: Anh Văn Chuyên ngành | F17: 14TC-CKT,P | G17: 1 | I17: 30 | J17: =ROUND(IF(G17>0,G17*I17,"0")+IF(H17>0,(I17/1.5)*H17,"0"),1) -> 30 | M17: =ROUND(J17+K17+L17,1) -> 30
A18: 05 | B18: 42252 | C18: 42357 | D18: 15 | E18: Công Nghệ CAD/CAM | F18: 14TC-CKT,P | G18: 1 | I18: 30 | J18: =ROUND(IF(G18>0,G18*I18,"0")+IF(H18>0,(I18/1.5)*H18,"0"),1) -> 30 | M18: =ROUND(J18+K18+L18,1) -> 30
A19: 06 | J19: =ROUND(IF(G19>0,G19*I19,"0")+IF(H19>0,(I19/1.5)*H19,"0"),1) -> 0 | M19: =ROUND(J19+K19+L19,1) -> 0
A20: 07 | J20: =ROUND(IF(G20>0,G20*I20,"0")+IF(H20>0,(I20/1.5)*H20,"0"),1) -> 0 | M20: =ROUND(J20+K20+L20,1) -> 0
A21: 08 | J21: =ROUND(IF(G21>0,G21*I21,"0")+IF(H21>0,(I21/1.5)*H21,"0"),1) -> 0 | M21: =ROUND(J21+K21+L21,1) -> 0
A22: 09 | J22: =ROUND(IF(G22>0,G22*I22,"0")+IF(H22>0,(I22/1.5)*H22,"0"),1) -> 0 | M22: =ROUND(J22+K22+L22,1) -> 0
A23: 10 | G23: 15 | J23: =ROUND(IF(G23>0,G23*I23,"0")+IF(H23>0,(I23/1.5)*H23,"0"),1) -> 0 | K23: =IF(E23="CVHT",ROUND((270*G23/100)/2,1),0) -> 0 | M23: =ROUND(J23+K23+L23,1) -> 0
A24: TỔNG CỘNG (theo tiết) | I24: =SUM(I14:I23) -> 150 | J24: =SUM(J14:J23) -> 165 | K24: =SUM(K14:K23) -> 0 | L24: =SUM(L14:L21) -> 0 | M24: =SUM(M14:M23) -> 165
B26: CÁCH TÍNH: | C26: Cột (6), (7): | D26: Nhập tổng hệ số = 1+ (Hệ số thứ nhất - 1 + Hệ số thứ hai - 1 + … -1), không tính hệ số quy đổi thực hành sang tiết chuẩn
C27: Cột (8): | D27: Nhập đúng số tiết thực dạy
C28: Cột (11): | D28: Khối lượng công tác cộng thêm (nếu có) theo điều 16 Quy định 1863.
M30: Ngày 12 tháng 04 năm 2016
B31: TRƯỞNG KHOA | F31: TRƯỞNG TỔ | M31: GIÁO VIÊN
F37: Bùi Anh Tuấn | M37: Đỗ Thị Phương Khanh

Sheet Long
C1: ỦY BAN NHÂN DÂN TP.HCM | J1: CỘNG HÒA XÃ HỘI CHỦ NGHĨA VIỆT NAM
C2: TRƯỜNG CĐ KỸ THUẬT LÝ TỰ TRỌNG | J2: Độc lập - Tự do - Hạnh phúc
G5: BẢNG KÊ KHỐI LƯỢNG CÔNG TÁC GIẢNG DẠY CỦA GIÁO VIÊN - GIẢNG VIÊN
E6: TRONG HỌC KỲ: | F6: I | G6: - | H6: Năm học: | J6: 2015 - 2016
C7: Họ và tên giáo viên: | D7: Nguyễn Thành Long | F7: Tổ: | G7: Công nghệ chế tạo | K7: Khoa : | L7: Công nghệ cơ khí
L8: (Đơn vị tính: tiết)
A9: TT | B9: Từ | C9: Đến | D9: Số tuần thực dạy | E9: Môn Dạy | F9: Lớp dạy | G9: Tổng hệ số | I9: Thực hiện
B10: Ngày… | C10: Ngày… | I10: Thực giảng dạy | K10: Kiêm Nhiệm | L10: Khối luợng công tác cộng thêm | M10: Tổng thực hiện | N10: Ghi
B11: Tháng… | C11: Tháng… | G11: LT | H11: TH | I11: Chưa nhân | J11: Đã nhân | N11: Chú
B12: Năm…. | C12: Năm…. | I12: hệ số | J12: hệ số
A13: (1) | B13: (2) | D13: (3) | E13: (4) | F13: (5) | G13: (6) | H13: (7) | I13: (8) | J13: (9) | K13: (10) | L13: (11) | M13: (12) | N13: (13)
A14: 01 | B14: 42319 | C14: 23/12/2015 | D14: 7 | E14: TT Nguội hàn cơ bản (N1) | F14: 14CĐ-CK1 | H14: 1.2 | I14: 42 | J14: =ROUND(IF(G14>0,G14*I14,"0")+IF(H14>0,(I14/1.5)*H14,"0"),1) -> 33.6 | M14: =ROUND(J14+K14+L14,1) -> 33.6
A15: 02 | B15: 42319 | C15: 23/12/2015 | D15: 7 | E15: TT Nguội hàn cơ bản (N2) | F15: 14CĐ-CK1 | H15: 1.2 | I15: 42 | J15: =ROUND(IF(G15>0,G15*I15,"0")+IF(H15>0,(I15/1.5)*H15,"0"),1) -> 33.6 | M15: =ROUND(J15+K15+L15,1) -> 33.6
A16: 03 | B16: 42258 | C16: 42282 | D16: 5 | E16: TT Nhập môn cơ khí (N1) | F16: 14CĐ-Ô4 | H16: 1.1 | I16: 30 | J16: =ROUND(IF(G16>0,G16*I16,"0")+IF(H16>0,(I16/1.5)*H16,"0"),1) -> 22 | M16: =ROUND(J16+K16+L16,1) -> 22
A17: 04 | B17: 14/10/2015 | C17: 42319 | D17: 5 | E17: TT Gò - Hàn | F17: 15TCN - NL | H17: 1.1 | I17: 30 | J17: =ROUND(IF(G17>0,G17*I17,"0")+IF(H17>0,(I17/1.5)*H17,"0"),1) -> 22 | M17: =ROUND(J17+K17+L17,1) -> 22
A18: 05 | B18: 17/9/2015 | C18: 14/1/2016 | D18: 18 | E18: Nguyên lý chi tiết máy | F18: 14TCCKT,P | G18: 1 | I18: 75 | J18: =ROUND(IF(G18>0,G18*I18,"0")+IF(H18>0,(I18/1.5)*H18,"0"),1) -> 75 | M18: =ROUND(J18+K18+L18,1) -> 75
A19: 06 | J19: =ROUND(IF(G19>0,G19*I19,"0")+IF(H19>0,(I19/1.5)*H19,"0"),1) -> 0 | M19: =ROUND(J19+K19+L19,1) -> 0
A20: 07 | J20: =ROUND(IF(G20>0,G20*I20,"0")+IF(H20>0,(I20/1.5)*H20,"0"),1) -> 0 | M20: =ROUND(J20+K20+L20,1) -> 0
A21: 08 | J21: =ROUND(IF(G21>0,G21*I21,"0")+IF(H21>0,(I21/1.5)*H21,"0"),1) -> 0 | M21: =ROUND(J21+K21+L21,1) -> 0
A22: 09 | J22: =ROUND(IF(G22>0,G22*I22,"0")+IF(H22>0,(I22/1.5)*H22,"0"),1) -> 0 | M22: =ROUND(J22+K22+L22,1) -> 0
A23: 10 | E23: CVHT | G23: 15 | J23: =ROUND(IF(G23>0,G23*I23,"0")+IF(H23>0,(I23/1.5)*H23,"0"),1) -> 0 | K23: =IF(E23="CVHT",ROUND((270*G23/100)/2,1),0) -> 20.3 | M23: =ROUND(J23+K23+L23,1) -> 20.3
A24: TỔNG CỘNG (theo tiết) | I24: =SUM(I14:I23) -> 219 | J24: =SUM(J14:J23) -> 186.2 | K24: =SUM(K14:K23) -> 20.3 | L24: =SUM(L14:L21) -> 0 | M24: =SUM(M14:M23) -> 206.5
B26: CÁCH TÍNH: | C26: Cột (6), (7): | D26: Nhập tổng hệ số = 1+ (Hệ số thứ nhất - 1 + Hệ số thứ hai - 1 + … -1), không tính hệ số quy đổi thực hành sang tiết chuẩn
C27: Cột (8): | D27: Nhập đúng số tiết thực dạy
C28: Cột (11): | D28: Khối lượng công tác cộng thêm (nếu có) theo điều 16 Quy định 1863.
M30: Ngày …... tháng ….. năm 2016
B31: TRƯỞNG KHOA | F31: TRƯỞNG TỔ | M31: GIÁO VIÊN
F37: Trần Đình Khải | M37: Nguyễn Thành Long

Sheet Nhan
C1: ỦY BAN NHÂN DÂN TP.HCM | J1: CỘNG HÒA XÃ HỘI CHỦ NGHĨA VIỆT NAM
C2: TRƯỜNG CĐ KỸ THUẬT LÝ TỰ TRỌNG | J2: Độc lập - Tự do - Hạnh phúc
G5: BẢNG KÊ KHỐI LƯỢNG CÔNG TÁC GIẢNG DẠY CỦA GIÁO VIÊN - GIẢNG VIÊN
E6: TRONG HỌC KỲ: | F6: I | G6: - | H6: Năm học: | J6: 2015 - 2016
C7: Họ và tên giáo viên: | D7: Nguyễn Tiến Nhân | F7: Tổ: | G7: Cơ điện - Cơ điện tử | K7: Khoa : | L7: Công nghệ cơ khí
L8: (Đơn vị tính: tiết)
A9: TT | B9: Từ | C9: Đến | D9: Số tuần thực dạy | E9: Môn Dạy | F9: Lớp dạy | G9: Tổng hệ số | I9: Thực hiện
B10: Ngày… | C10: Ngày… | I10: Thực giảng dạy | K10: Kiêm Nhiệm | L10: Khối luợng công tác cộng thêm | M10: Tổng thực hiện | N10: Ghi
B11: Tháng… | C11: Tháng… | G11: LT | H11: TH | I11: Chưa nhân | J11: Đã nhân | N11: Chú
B12: Năm…. | C12: Năm…. | I12: hệ số | J12: hệ số
A13: (1) | B13: (2) | D13: (3) | E13: (4) | F13: (5) | G13: (6) | H13: (7) | I13: (8) | J13: (9) | K13: (10) | L13: (11) | M13: (12) | N13: (13)
A14: 01 | E14: Công nghệ CAD/CAM | F14: 13CĐCK1 | G14: =1+(1.1-1+1.1-1) -> 1.2 | I14: 45 | J14: =ROUND(IF(G14>0,G14*I14,"0")+IF(H14>0,(I14/1.5)*H14,"0"),1) -> 54 | M14: =ROUND(J14+K14+L14,1) -> 54 | N14: 47SV
A15: 02 | E15: Công nghệ CAD/CAM | F15: 13CĐCK2 | G15: =1+(1.1-1+1.1-1) -> 1.2 | I15: 45 | J15: =ROUND(IF(G15>0,G15*I15,"0")+IF(H15>0,(I15/1.5)*H15,"0"),1) -> 54 | M15: =ROUND(J15+K15+L15,1) -> 54 | N15: 47SV
A16: 03 | E16: Công nghệ CAD/CAM | F16: 13CĐCK3 | G16: =1+(1.1-1+1.1-1) -> 1.2 | I16: 45 | J16: =ROUND(IF(G16>0,G16*I16,"0")+IF(H16>0,(I16/1.5)*H16,"0"),1) -> 54 | M16: =ROUND(J16+K16+L16,1) -> 54 | N16: 47SV
A17: 04 | E17: Công nghệ CAD/CAM | F17: 13CĐCK4 | G17: =1+(1.1-1+1.1-1) -> 1.2 | I17: 45 | J17: =ROUND(IF(G17>0,G17*I17,"0")+IF(H17>0,(I17/1.5)*H17,"0"),1) -> 54 | M17: =ROUND(J17+K17+L17,1) -> 54 | N17: 45SV
A18: 05 | E18: Vật liệu học | F18: 14CĐCK3 | G18: =1+(1.1-1+1.2-1) -> 1.3 | I18: 30 | J18: =ROUND(IF(G18>0,G18*I18,"0")+IF(H18>0,(I18/1.5)*H18,"0"),1) -> 39 | M18: =ROUND(J18+K18+L18,1) -> 39 | N18: 64SV
A19: 06 | E19: Đồ án TTTK hệ DĐCK | F19: 13CĐCK1 | G19: =1+(1.1-1+1.1-1) -> 1.2 | I19: 15 | J19: =ROUND(IF(G19>0,G19*I19,"0")+IF(H19>0,(I19/1.5)*H19,"0"),1) -> 18 | M19: =ROUND(J19+K19+L19,1) -> 18 | N19: 57SV
A20: 07 | E20: Đồ án TTTK hệ DĐCK | F20: 13CĐCK2 | G20: =1+(1.1-1+1.1-1) -> 1.2 | I20: 15 | J20: =ROUND(IF(G20>0,G20*I20,"0")+IF(H20>0,(I20/1.5)*H20,"0"),1) -> 18 | M20: =ROUND(J20+K20+L20,1) -> 18 | N20: 57SV
A21: 08 | E21: Đồ án TTTK hệ DĐCK | F21: 13CĐCK3 | G21: =1+(1.1-1+1.1-1) -> 1.2 | I21: 15 | J21: =ROUND(IF(G21>0,G21*I21,"0")+IF(H21>0,(I21/1.5)*H21,"0"),1) -> 18 | M21: =ROUND(J21+K21+L21,1) -> 18 | N21: 57SV
A22: 09 | E22: Đồ án TTTK hệ DĐCK | F22: 13CĐCK4 | G22: =1+(1.1-1+1.1-1) -> 1.2 | I22: 15 | J22: =ROUND(IF(G22>0,G22*I22,"0")+IF(H22>0,(I22/1.5)*H22,"0"),1) -> 18 | M22: =ROUND(J22+K22+L22,1) -> 18 | N22: 55SV
A23: 10 | E23: CVHT | F23: 15CĐCK1 | G23: 15 | J23: =ROUND(IF(G23>0,G23*I23,"0")+IF(H23>0,(I23/1.5)*H23,"0"),1) -> 0 | K23: =IF(E23="CVHT",ROUND((270*G23/100)/2,1),0) -> 20.3 | M23: =ROUND(J23+K23+L23,1) -> 20.3
A24: TỔNG CỘNG (theo tiết) | I24: =SUM(I14:I23) -> 270 | J24: =SUM(J14:J23) -> 327 | K24: =SUM(K14:K23) -> 20.3 | L24: =SUM(L14:L21) -> 0 | M24: =SUM(M14:M23) -> 347.3
B26: CÁCH TÍNH: | C26: Cột (6), (7): | D26: Nhập tổng hệ số = 1+ (Hệ số thứ nhất - 1 + Hệ số thứ hai - 1 + … -1), không tính hệ số quy đổi thực hành sang tiết chuẩn
C27: Cột (8): | D27: Nhập đúng số tiết thực dạy
C28: Cột (11): | D28: Khối lượng công tác cộng thêm (nếu có) theo điều 16 Quy định 1863.
M30: Ngày …... tháng ….. năm 2016
B31: TRƯỞNG KHOA | F31: TRƯỞNG TỔ | M31: GIÁO VIÊN
F37: Bùi Anh Tuấn | M37: Nguyễn Tiến Nhân

Sheet Phap
C1: ỦY BAN NHÂN DÂN TP.HCM | J1: CỘNG HÒA XÃ HỘI CHỦ NGHĨA VIỆT NAM
C2: TRƯỜNG CĐ KỸ THUẬT LÝ TỰ TRỌNG | J2: Độc lập - Tự do - Hạnh phúc
G5: BẢNG KÊ KHỐI LƯỢNG CÔNG TÁC GIẢNG DẠY CỦA GIÁO VIÊN - GIẢNG VIÊN
E6: TRONG HỌC KỲ: | F6: I | G6: - | H6: Năm học: | J6: 2015 - 2016
C7: Họ và tên giáo viên: | D7: Vũ Đức Pháp | F7: Tổ: | G7: Công nghệ chế tạo | K7: Khoa : | L7: Công nghệ cơ khí
L8: (Đơn vị tính: tiết)
A9: TT | B9: Từ | C9: Đến | D9: Số tuần thực dạy | E9: Môn Dạy | F9: Lớp dạy | G9: Tổng hệ số | I9: Thực hiện
B10: Ngày… | C10: Ngày… | I10: Thực giảng dạy | K10: Kiêm Nhiệm | L10: Khối luợng công tác cộng thêm | M10: Tổng thực hiện | N10: Ghi
B11: Tháng… | C11: Tháng… | G11: LT | H11: TH | I11: Chưa nhân | J11: Đã nhân | N11: Chú
B12: Năm…. | C12: Năm…. | I12: hệ số | J12: hệ số
A13: (1) | B13: (2) | D13: (3) | E13: (4) | F13: (5) | G13: (6) | H13: (7) | I13: (8) | J13: (9) | K13: (10) | L13: (11) | M13: (12) | N13: (13)
A14: 01 | B14: 42194 | C14: 27/10/15 | E14: Thực tập Tiện 1 | F14: 14CĐ-CK3 | H14: 1.1 | I14: 60 | J14: =ROUND(IF(G14>0,G14*I14,"0")+IF(H14>0,(I14/1.5)*H14,"0"),1) -> 44 | M14: =ROUND(J14+K14+L14,1) -> 44
A15: 02 | B15: 42194 | C15: 27/10/15 | E15: Thực tập Tiện 2 | F15: 14CĐ-CK2 | H15: 1.1 | I15: 60 | J15: =ROUND(IF(G15>0,G15*I15,"0")+IF(H15>0,(I15/1.5)*H15,"0"),1) -> 44 | M15: =ROUND(J15+K15+L15,1) -> 44
A16: 03 | B16: 14/09/15 | C16: 16/01/16 | E16: Máy Cắt Kim Loại | F16: 14TC-CKT | G16: 1 | I16: 75 | J16: =ROUND(IF(G16>0,G16*I16,"0")+IF(H16>0,(I16/1.5)*H16,"0"),1) -> 75 | M16: =ROUND(J16+K16+L16,1) -> 75
A17: 04 | J17: =ROUND(IF(G17>0,G17*I17,"0")+IF(H17>0,(I17/1.5)*H17,"0"),1) -> 0 | M17: =ROUND(J17+K17+L17,1) -> 0
A18: 05 | J18: =ROUND(IF(G18>0,G18*I18,"0")+IF(H18>0,(I18/1.5)*H18,"0"),1) -> 0 | M18: =ROUND(J18+K18+L18,1) -> 0
A19: 06 | J19: =ROUND(IF(G19>0,G19*I19,"0")+IF(H19>0,(I19/1.5)*H19,"0"),1) -> 0 | M19: =ROUND(J19+K19+L19,1) -> 0
A20: 07 | J20: =ROUND(IF(G20>0,G20*I20,"0")+IF(H20>0,(I20/1.5)*H20,"0"),1) -> 0 | M20: =ROUND(J20+K20+L20,1) -> 0
A21: 08 | J21: =ROUND(IF(G21>0,G21*I21,"0")+IF(H21>0,(I21/1.5)*H21,"0"),1) -> 0 | M21: =ROUND(J21+K21+L21,1) -> 0
A22: 09 | J22: =ROUND(IF(G22>0,G22*I22,"0")+IF(H22>0,(I22/1.5)*H22,"0"),1) -> 0 | M22: =ROUND(J22+K22+L22,1) -> 0
A23: 10 | E23: CVHT | G23: 15 | J23: =ROUND(IF(G23>0,G23*I23,"0")+IF(H23>0,(I23/1.5)*H23,"0"),1) -> 0 | K23: =IF(E23="CVHT",ROUND((270*G23/100)/2,1),0) -> 20.3 | M23: =ROUND(J23+K23+L23,1) -> 20.3
A24: TỔNG CỘNG (theo tiết) | I24: =SUM(I14:I23) -> 195 | J24: =SUM(J14:J23) -> 163 | K24: =SUM(K14:K23) -> 20.3 | L24: =SUM(L14:L21) -> 0 | M24: =SUM(M14:M23) -> 183.3
B26: CÁCH TÍNH: | C26: Cột (6), (7): | D26: Nhập tổng hệ số = 1+ (Hệ số thứ nhất - 1 + Hệ số thứ hai - 1 + … -1), không tính hệ số quy đổi thực hành sang tiết chuẩn
C27: Cột (8): | D27: Nhập đúng số tiết thực dạy
C28: Cột (11): | D28: Khối lượng công tác cộng thêm (nếu có) theo điều 16 Quy định 1863.
M30: Ngày …... tháng ….. năm 2016
B31: TRƯỞNG KHOA | F31: TRƯỞNG TỔ | M31: GIÁO VIÊN
F37: Trần Đình Khải | M37: Vũ Đức Pháp

Sheet Phuc
C1: ỦY BAN NHÂN DÂN TP.HCM | J1: CỘNG HÒA XÃ HỘI CHỦ NGHĨA VIỆT NAM
C2: TRƯỜNG CĐ KỸ THUẬT LÝ TỰ TRỌNG | J2: Độc lập - Tự do - Hạnh phúc
G5: BẢNG KÊ KHỐI LƯỢNG CÔNG TÁC GIẢNG DẠY CỦA GIÁO VIÊN - GIẢNG VIÊN
E6: TRONG HỌC KỲ: | F6: I | G6: - | H6: Năm học: | J6: 2015 - 2016
C7: Họ và tên giáo viên: | D7: Nguyễn Thanh Vĩnh Phúc | F7: Tổ: | G7: Công nghệ chế tạo | K7: Khoa : | L7: Công nghệ cơ khí
L8: (Đơn vị tính: tiết)
A9: TT | B9: Từ | C9: Đến | D9: Số tuần thực dạy | E9: Môn Dạy | F9: Lớp dạy | G9: Tổng hệ số | I9: Thực hiện
B10: Ngày… | C10: Ngày… | I10: Thực giảng dạy | K10: Kiêm Nhiệm | L10: Khối luợng công tác cộng thêm | M10: Tổng thực hiện | N10: Ghi
B11: Tháng… | C11: Tháng… | G11: LT | H11: TH | I11: Chưa nhân | J11: Đã nhân | N11: Chú
B12: Năm…. | C12: Năm…. | I12: hệ số | J12: hệ số
A13: (1) | B13: (2) | D13: (3) | E13: (4) | F13: (5) | G13: (6) | H13: (7) | I13: (8) | J13: (9) | K13: (10) | L13: (11) | M13: (12) | N13: (13)
A14: 01 | D14: 5 | E14: TT Hàn | F14: 14TC - Ô1 | H14: 1 | I14: 60 | J14: =ROUND(IF(G14>0,G14*I14,"0")+IF(H14>0,(I14/1.5)*H14,"0"),1) -> 40 | M14: =ROUND(J14+K14+L14,1) -> 40 | N14: 2 nhóm
A15: 02 | D15: 5 | E15: TT Hàn | F15: 14TC - Ô2 | H15: 1 | I15: 60 | J15: =ROUND(IF(G15>0,G15*I15,"0")+IF(H15>0,(I15/1.5)*H15,"0"),1) -> 40 | M15: =ROUND(J15+K15+L15,1) -> 40 | N15: 2 nhóm
A16: 03 | D16: 7 | E16: TT Hàn | F16: 13CĐ - CK2 | H16: 1.1 | I16: 84 | J16: =ROUND(IF(G16>0,G16*I16,"0")+IF(H16>0,(I16/1.5)*H16,"0"),1) -> 61.6 | M16: =ROUND(J16+K16+L16,1) -> 61.6 | N16: 2 nhóm
A17: 04 | D17: 3 | E17: TT Hàn | F17: 13CĐ - CK3 | H17: 1.1 | I17: 18 | J17: =ROUND(IF(G17>0,G17*I17,"0")+IF(H17>0,(I17/1.5)*H17,"0"),1) -> 13.2 | M17: =ROUND(J17+K17+L17,1) -> 13.2 | N17: Thế T.Đ.Khai
A18: 05 | D18: 5 | E18: TT Hàn | F18: 15CĐN-Ô | H18: 1 | I18: 60 | J18: =ROUND(IF(G18>0,G18*I18,"0")+IF(H18>0,(I18/1.5)*H18,"0"),1) -> 40 | M18: =ROUND(J18+K18+L18,1) -> 40 | N18: 2 nhóm
A19: 06 | D19: 5 | E19: TT Hàn | F19: 14CĐ - Ô3 | H19: 1.1 | I19: 60 | J19: =ROUND(IF(G19>0,G19*I19,"0")+IF(H19>0,(I19/1.5)*H19,"0"),1) -> 44 | M19: =ROUND(J19+K19+L19,1) -> 44 | N19: 2 nhóm
A20: 07 | D20: 5 | E20: TT Hàn | F20: 14CĐ - NL | H20: 1.1 | I20: 60 | J20: =ROUND(IF(G20>0,G20*I20,"0")+IF(H20>0,(I20/1.5)*H20,"0"),1) -> 44 | M20: =ROUND(J20+K20+L20,1) -> 44 | N20: 2 nhóm
A21: 08 | D21: 5 | E21: TT Hàn | F21: 15CĐN - NL | H21: 1 | I21: 30 | J21: =ROUND(IF(G21>0,G21*I21,"0")+IF(H21>0,(I21/1.5)*H21,"0"),1) -> 20 | M21: =ROUND(J21+K21+L21,1) -> 20
A22: 09 | D22: 15 | E22: Đồ gá | F22: 13CĐ - CK4 | G22: 1.2 | I22: 30 | J22: =ROUND(IF(G22>0,G22*I22,"0")+IF(H22>0,(I22/1.5)*H22,"0"),1) -> 36 | M22: =ROUND(J22+K22+L22,1) -> 36
A23: 10 | D23: 5 | E23: TT Hàn | F23: 14CĐ - Ô1 | H23: 1.1 | I23: 30 | J23: =ROUND(IF(G23>0,G23*I23,"0")+IF(H23>0,(I23/1.5)*H23,"0"),1) -> 22 | M23: =ROUND(J23+K23+L23,1) -> 22
A24: 11 | D24: 5 | E24: TT Hàn | F24: 14CĐ - Ô2 | H24: 1.1 | I24: 60 | J24: =ROUND(IF(G24>0,G24*I24,"0")+IF(H24>0,(I24/1.5)*H24,"0"),1) -> 44 | M24: =ROUND(J24+K24+L24,1) -> 44 | N24: 2 nhóm
A25: 12 | E25: CVHT | F25: 15CĐ-CK5 | G25: 15 | J25: =ROUND(IF(G25>0,G25*I25,"0")+IF(H25>0,(I25/1.5)*H25,"0"),1) -> 0 | K25: =IF(E25="CVHT",ROUND((270*G25/100)/2,1),0) -> 20.3 | M25: =ROUND(J25+K25+L25,1) -> 20.3
A26: TỔNG CỘNG (theo tiết) | I26: =SUM(I14:I25) -> 552 | J26: =SUM(J14:J25) -> 404.8 | K26: =SUM(K14:K25) -> 20.3 | L26: =SUM(L14:L23) -> 0 | M26: =SUM(M14:M25) -> 425.1
B28: CÁCH TÍNH: | C28: Cột (6), (7): | D28: Nhập tổng hệ số = 1+ (Hệ số thứ nhất - 1 + Hệ số thứ hai - 1 + … -1), không tính hệ số quy đổi thực hành sang tiết chuẩn
C29: Cột (8): | D29: Nhập đúng số tiết thực dạy
C30: Cột (11): | D30: Khối lượng công tác cộng thêm (nếu có) theo điều 16 Quy định 1863.
M32: Ngày …... tháng ….. năm 2016
B33: TRƯỞNG KHOA | F33: TRƯỞNG TỔ | M33: GIÁO VIÊN
F39: Trần Đình Khải | M39: Nguyễn Thanh Vĩnh Phúc

Sheet Phuong
C1: ỦY BAN NHÂN DÂN TP.HCM | J1: CỘNG HÒA XÃ HỘI CHỦ NGHĨA VIỆT NAM
C2: TRƯỜNG CĐ KỸ THUẬT LÝ TỰ TRỌNG | J2: Độc lập - Tự do - Hạnh phúc
G5: BẢNG KÊ KHỐI LƯỢNG CÔNG TÁC GIẢNG DẠY CỦA GIÁO VIÊN - GIẢNG VIÊN
E6: TRONG HỌC KỲ: | F6: I | G6: - | H6: Năm học: | J6: 2015 - 2016
C7: Họ và tên giáo viên: | D7: VÕ THUÝ PHƯƠNG | F7: Tổ: | G7: Kỹ thuật cơ sở | K7: Khoa : | L7: Công nghệ cơ khí
L8: (Đơn vị tính: tiết)
A9: TT | B9: Từ | C9: Đến | D9: Số tuần thực dạy | E9: Môn Dạy | F9: Lớp dạy | G9: Tổng hệ số | I9: Thực hiện
B10: Ngày… | C10: Ngày… | I10: Thực giảng dạy | K10: Kiêm Nhiệm | L10: Khối luợng công tác cộng thêm | M10: Tổng thực hiện | N10: Ghi
B11: Tháng… | C11: Tháng… | G11: LT | H11: TH | I11: Chưa nhân | J11: Đã nhân | N11: Chú
B12: Năm…. | C12: Năm…. | I12: hệ số | J12: hệ số
A13: (1) | B13: (2) | D13: (3) | E13: (4) | F13: (5) | G13: (6) | H13: (7) | I13: (8) | J13: (9) | K13: (10) | L13: (11) | M13: (12) | N13: (13)
A14: 01 | B14: 42254 | C14: 42357 | D14: 15 | E14: Cơ lý thuyết | F14: 14CĐ-Ô1 | G14: 1.2 | I14: 30 | J14: =ROUND(IF(G14>0,G14*I14,"0")+IF(H14>0,(I14/1.5)*H14,"0"),1) -> 36 | M14: =ROUND(J14+K14+L14,1) -> 36 | N14: SS lớp: 59
A15: 02 | B15: 42254 | C15: 42357 | D15: 15 | E15: Cơ lý thuyết | F15: 14CĐ-Ô2 | G15: 1.2 | I15: 30 | J15: =ROUND(IF(G15>0,G15*I15,"0")+IF(H15>0,(I15/1.5)*H15,"0"),1) -> 36 | M15: =ROUND(J15+K15+L15,1) -> 36 | N15: SS lớp: 57
A16: 03 | B16: 42254 | C16: 42357 | D16: 15 | E16: Cơ lý thuyết | F16: 14CĐ-Ô3 | G16: 1.3 | I16: 30 | J16: =ROUND(IF(G16>0,G16*I16,"0")+IF(H16>0,(I16/1.5)*H16,"0"),1) -> 39 | M16: =ROUND(J16+K16+L16,1) -> 39 | N16: SS lớp: 64
A17: 04 | B17: 42254 | C17: 42357 | D17: 15 | E17: Cơ lý thuyết | F17: 14CĐ-Ô4 | G17: 1.2 | I17: 30 | J17: =ROUND(IF(G17>0,G17*I17,"0")+IF(H17>0,(I17/1.5)*H17,"0"),1) -> 36 | M17: =ROUND(J17+K17+L17,1) -> 36 | N17: SS lớp: 57
A18: 05 | B18: 42254 | C18: 42357 | D18: 15 | E18: Cơ lý thuyết | F18: 14CĐ-Ô5 | G18: 1.2 | I18: 30 | J18: =ROUND(IF(G18>0,G18*I18,"0")+IF(H18>0,(I18/1.5)*H18,"0"),1) -> 36 | M18: =ROUND(J18+K18+L18,1) -> 36 | N18: SS lớp: 59
A19: 06 | B19: 42254 | C19: 42357 | D19: 15 | E19: Cơ ứng dụng | F19: 14CĐ-CK1 | G19: 1.3 | I19: 45 | J19: =ROUND(IF(G19>0,G19*I19,"0")+IF(H19>0,(I19/1.5)*H19,"0"),1) -> 58.5 | M19: =ROUND(J19+K19+L19,1) -> 58.5 | N19: SS lớp: 69
A20: 07 | B20: 42254 | C20: 42357 | D20: 15 | E20: Cơ ứng dụng | F20: 14CĐ-CK2 | G20: 1.3 | I20: 45 | J20: =ROUND(IF(G20>0,G20*I20,"0")+IF(H20>0,(I20/1.5)*H20,"0"),1) -> 58.5 | M20: =ROUND(J20+K20+L20,1) -> 58.5 | N20: SS lớp: 64
A21: 08 | B21: 42254 | C21: 42357 | D21: 15 | E21: Cơ ứng dụng | F21: 14CĐ-CK3 | G21: 1.3 | I21: 45 | J21: =ROUND(IF(G21>0,G21*I21,"0")+IF(H21>0,(I21/1.5)*H21,"0"),1) -> 58.5 | M21: =ROUND(J21+K21+L21,1) -> 58.5 | N21: SS lớp: 68
A22: 09 | J22: =ROUND(IF(G22>0,G22*I22,"0")+IF(H22>0,(I22/1.5)*H22,"0"),1) -> 0 | M22: =ROUND(J22+K22+L22,1) -> 0
A23: 10 | G23: 15 | J23: =ROUND(IF(G23>0,G23*I23,"0")+IF(H23>0,(I23/1.5)*H23,"0"),1) -> 0 | K23: =IF(E23="CVHT",ROUND((270*G23/100)/2,1),0) -> 0 | M23: =ROUND(J23+K23+L23,1) -> 0
A24: TỔNG CỘNG (theo tiết) | I24: =SUM(I14:I23) -> 285 | J24: =SUM(J14:J23) -> 358.5 | K24: =SUM(K14:K23) -> 0 | L24: =SUM(L14:L21) -> 0 | M24: =SUM(M14:M23) -> 358.5
B26: CÁCH TÍNH: | C26: Cột (6), (7): | D26: Nhập tổng hệ số = 1+ (Hệ số thứ nhất - 1 + Hệ số thứ hai - 1 + … -1), không tính hệ số quy đổi thực hành sang tiết chuẩn
C27: Cột (8): | D27: Nhập đúng số tiết thực dạy
C28: Cột (11): | D28: Khối lượng công tác cộng thêm (nếu có) theo điều 16 Quy định 1863.
M30: Ngày …... tháng ….. năm 2016
B31: TRƯỞNG KHOA | F31: TRƯỞNG TỔ | M31: GIÁO VIÊN
F37: Nguyễn Duy Hải | M37: Võ Thúy Phương

Sheet Quang
C1: ỦY BAN NHÂN DÂN TP.HCM | J1: CỘNG HÒA XÃ HỘI CHỦ NGHĨA VIỆT NAM
C2: TRƯỜNG CĐ KỸ THUẬT LÝ TỰ TRỌNG | J2: Độc lập - Tự do - Hạnh phúc
G5: BẢNG KÊ KHỐI LƯỢNG CÔNG TÁC GIẢNG DẠY CỦA GIÁO VIÊN - GIẢNG VIÊN
E6: TRONG HỌC KỲ: | F6: I | G6: - | H6: Năm học: | J6: 2015 - 2016
C7: Họ và tên giáo viên: | D7: VÕ MINH QUANG | F7: Tổ: | G7: CÔNG NGHỆ CHẾ TẠO | K7: Khoa : | L7: Công nghệ cơ khí
L8: (Đơn vị tính: tiết)
A9: TT | B9: Từ | C9: Đến | D9: Số tuần thực dạy | E9: Môn Dạy | F9: Lớp dạy | G9: Tổng hệ số | I9: Thực hiện
B10: Ngày… | C10: Ngày… | I10: Thực giảng dạy | K10: Kiêm Nhiệm | L10: Khối luợng công tác cộng thêm | M10: Tổng thực hiện | N10: Ghi
B11: Tháng… | C11: Tháng… | G11: LT | H11: TH | I11: Chưa nhân | J11: Đã nhân | N11: Chú
B12: Năm…. | C12: Năm…. | I12: hệ số | J12: hệ số
A13: (1) | B13: (2) | D13: (3) | E13: (4) | F13: (5) | G13: (6) | H13: (7) | I13: (8) | J13: (9) | K13: (10) | L13: (11) | M13: (12) | N13: (13)
A14: 01 | B14: 42254 | C14: 42287 | D14: 5 | E14: Thực hành nguội | F14: 14CĐ-NL | H14: 1.3 | I14: 30 | J14: =ROUND(IF(G14>0,G14*I14,"0")+IF(H14>0,(I14/1.5)*H14,"0"),1) -> 26 | M14: =ROUND(J14+K14+L14,1) -> 26
A15: 02 | B15: 42310 | C15: 42343 | D15: 5 | E15: Thực hành nguội | F15: 14TC-Ô1 | H15: 1.2 | I15: 30 | J15: =ROUND(IF(G15>0,G15*I15,"0")+IF(H15>0,(I15/1.5)*H15,"0"),1) -> 24 | M15: =ROUND(J15+K15+L15,1) -> 24
A16: 03 | B16: 42310 | C16: 42343 | D16: 5 | E16: Thực hành nguội | F16: 14TC-Ô2 | H16: 1 | I16: 30 | J16: =ROUND(IF(G16>0,G16*I16,"0")+IF(H16>0,(I16/1.5)*H16,"0"),1) -> 20 | M16: =ROUND(J16+K16+L16,1) -> 20
A17: 04 | B17: 42317 | C17: 42322 | D17: 5 | E17: Thực hành nguội | F17: 15TN&TCT-ĐL | H17: 1.1 | I17: 30 | J17: =ROUND(IF(G17>0,G17*I17,"0")+IF(H17>0,(I17/1.5)*H17,"0"),1) -> 22 | M17: =ROUND(J17+K17+L17,1) -> 22
A18: 05 | B18: 42282 | C18: 42364 | D18: 12 | E18: Thực hành nguội | F18: 15TN&TCT-CK | H18: 1.2 | I18: 60 | J18: =ROUND(IF(G18>0,G18*I18,"0")+IF(H18>0,(I18/1.5)*H18,"0"),1) -> 48 | M18: =ROUND(J18+K18+L18,1) -> 48
A19: 06 | B19: 42317 | C19: 42352 | D19: 5 | E19: Thực hành nguội | F19: 15TC-NL(9+3) | H19: 1 | I19: 30 | J19: =ROUND(IF(G19>0,G19*I19,"0")+IF(H19>0,(I19/1.5)*H19,"0"),1) -> 20 | M19: =ROUND(J19+K19+L19,1) -> 20
A20: 07 | B20: 42254 | C20: 42308 | D20: 8 | E20: Đồ gá | F20: 13CĐ-CK3 | G20: 1.2 | I20: 16 | J20: =ROUND(IF(G20>0,G20*I20,"0")+IF(H20>0,(I20/1.5)*H20,"0"),1) -> 19.2 | M20: =ROUND(J20+K20+L20,1) -> 19.2
A21: 08 | B21: 42254 | C21: 42308 | D21: 8 | E21: Thực hành nguội | F21: 14CĐ-CK1 | H21: 1.3 | I21: 48 | J21: =ROUND(IF(G21>0,G21*I21,"0")+IF(H21>0,(I21/1.5)*H21,"0"),1) -> 41.6 | M21: =ROUND(J21+K21+L21,1) -> 41.6
A22: 09 | B22: 42254 | C22: 42308 | D22: 8 | E22: Thực hành nguội | F22: 14CĐ-CK2 | H22: 1.3 | I22: 48 | J22: =ROUND(IF(G22>0,G22*I22,"0")+IF(H22>0,(I22/1.5)*H22,"0"),1) -> 41.6 | M22: =ROUND(J22+K22+L22,1) -> 41.6
A23: 10 | B23: 42254 | C23: 42308 | D23: 8 | E23: Thực hành nguội | F23: 14CĐ-CK3 | H23: 1.3 | I23: 48 | J23: =ROUND(IF(G23>0,G23*I23,"0")+IF(H23>0,(I23/1.5)*H23,"0"),1) -> 41.6 | M23: =ROUND(J23+K23+L23,1) -> 41.6
A24: 11 | B24: 42254 | C24: 42308 | D24: 5 | E24: Thực hành nguội | F24: 14CĐ-Ô1 | H24: 1.3 | I24: 30 | J24: =ROUND(IF(G24>0,G24*I24,"0")+IF(H24>0,(I24/1.5)*H24,"0"),1) -> 26 | M24: =ROUND(J24+K24+L24,1) -> 26
A25: 12 | B25: 42254 | C25: 42308 | D25: 5 | E25: Thực hành nguội | F25: 14CĐ-Ô2 | H25: 1.3 | I25: 30 | J25: =ROUND(IF(G25>0,G25*I25,"0")+IF(H25>0,(I25/1.5)*H25,"0"),1) -> 26 | M25: =ROUND(J25+K25+L25,1) -> 26
A26: 13 | B26: 42289 | C26: 42322 | D26: 5 | E26: Thực hành nguội | F26: 14CĐ-Ô3 | H26: 1.3 | I26: 30 | J26: =ROUND(IF(G26>0,G26*I26,"0")+IF(H26>0,(I26/1.5)*H26,"0"),1) -> 26 | M26: =ROUND(J26+K26+L26,1) -> 26
A27: 14 | B27: 42289 | C27: 42322 | D27: 5 | E27: Thực hành nguội | F27: 14CĐ-Ô4 | H27: 1.3 | I27: 30 | J27: =ROUND(IF(G27>0,G27*I27,"0")+IF(H27>0,(I27/1.5)*H27,"0"),1) -> 26 | M27: =ROUND(J27+K27+L27,1) -> 26
A28: 15 | B28: 42289 | C28: 42322 | D28: 5 | E28: Thực hành nguội | F28: 14CĐ-Ô5 | H28: 1.3 | I28: 30 | J28: =ROUND(IF(G28>0,G28*I28,"0")+IF(H28>0,(I28/1.5)*H28,"0"),1) -> 26 | M28: =ROUND(J28+K28+L28,1) -> 26
A29: 16 | E29: CVHT | F29: 15CĐ-CK9 | G29: 15 | J29: =ROUND(IF(G29>0,G29*I29,"0")+IF(H29>0,(I29/1.5)*H29,"0"),1) -> 0 | K29: =IF(E29="CVHT",ROUND((270*G29/100)/2,1),0) -> 20.3 | M29: =ROUND(J29+K29+L29,1) -> 20.3
A30: TỔNG CỘNG (theo tiết) | I30: =SUM(I14:I29) -> 520 | J30: =SUM(J14:J29) -> 434 | K30: =SUM(K14:K29) -> 20.3 | L30: =SUM(L14:L28) -> 0 | M30: =SUM(M14:M29) -> 454.3
B32: CÁCH TÍNH: | C32: Cột (6), (7): | D32: Nhập tổng hệ số = 1+ (Hệ số thứ nhất - 1 + Hệ số thứ hai - 1 + … -1), không tính hệ số quy đổi thực hành sang tiết chuẩn
C33: Cột (8): | D33: Nhập đúng số tiết thực dạy
C34: Cột (11): | D34: Khối lượng công tác cộng thêm (nếu có) theo điều 16 Quy định 1863.
M36: Ngày …... tháng ….. năm 2016
B37: TRƯỞNG KHOA | F37: TRƯỞNG TỔ | M37: GIÁO VIÊN
F43: Trần Đình Khải | M43: Võ Minh Quang

Sheet Quynh
C1: ỦY BAN NHÂN DÂN TP.HCM | J1: CỘNG HÒA XÃ HỘI CHỦ NGHĨA VIỆT NAM
C2: TRƯỜNG CĐ KỸ THUẬT LÝ TỰ TRỌNG | J2: Độc lập - Tự do - Hạnh phúc
G5: BẢNG KÊ KHỐI LƯỢNG CÔNG TÁC GIẢNG DẠY CỦA GIÁO VIÊN - GIẢNG VIÊN
E6: TRONG HỌC KỲ: | F6: I | G6: - | H6: Năm học: | J6: 2015 - 2016
C7: Họ và tên giáo viên: | D7: Nguyễn Ngọc Quỳnh | F7: Tổ: | G7: CÔNG NGHỆ CHẾ TẠO | K7: Khoa : | L7: Công nghệ cơ khí
L8: (Đơn vị tính: tiết)
A9: TT | B9: Từ | C9: Đến | D9: Số tuần thực dạy | E9: Môn Dạy | F9: Lớp dạy | G9: Tổng hệ số | I9: Thực hiện
B10: Ngày… | C10: Ngày… | I10: Thực giảng dạy | K10: Kiêm Nhiệm | L10: Khối luợng công tác cộng thêm | M10: Tổng thực hiện | N10: Ghi
B11: Tháng… | C11: Tháng… | G11: LT | H11: TH | I11: Chưa nhân | J11: Đã nhân | N11: Chú
B12: Năm…. | C12: Năm…. | I12: hệ số | J12: hệ số
A13: (1) | B13: (2) | D13: (3) | E13: (4) | F13: (5) | G13: (6) | H13: (7) | I13: (8) | J13: (9) | K13: (10) | L13: (11) | M13: (12) | N13: (13)
A14: 01 | B14: 16/9 | C14: 23/12/15 | D14: 15 | E14: Công nghệ khí nén | F14: 14TC-CKT,P | G14: 1 | I14: 30 | J14: =ROUND(IF(G14>0,G14*I14,"0")+IF(H14>0,(I14/1.5)*H14,"0"),1) -> 30 | M14: =ROUND(J14+K14+L14,1) -> 30
A15: 02 | B15: 42195 | C15: 13/1 | D15: 15 | E15: AT&MTCN | F15: 15TN-CKP 15TCT-CKP | G15: 1.1 | I15: 30 | J15: =ROUND(IF(G15>0,G15*I15,"0")+IF(H15>0,(I15/1.5)*H15,"0"),1) -> 33 | M15: =ROUND(J15+K15+L15,1) -> 33
A16: 03 | B16: 20/11/15 | C16: 25/12 | D16: 5 | E16: Thực tập Hàn | F16: 15TC-NL | H16: 1 | I16: 30 | J16: =ROUND(IF(G16>0,G16*I16,"0")+IF(H16>0,(I16/1.5)*H16,"0"),1) -> 20 | M16: =ROUND(J16+K16+L16,1) -> 20
A17: 04 | B17: 42225 | C17: 15/12/15 | D17: 15 | E17: Vật liệu học | F17: 14CĐ-Ô 1 | G17: 1.2 | I17: 30 | J17: =ROUND(IF(G17>0,G17*I17,"0")+IF(H17>0,(I17/1.5)*H17,"0"),1) -> 36 | M17: =ROUND(J17+K17+L17,1) -> 36
A18: 05 | B18: 42225 | C18: 15/12/15 | D18: 15 | E18: Vật liệu học | F18: 14CĐ-Ô 5 | G18: 1.2 | I18: 30 | J18: =ROUND(IF(G18>0,G18*I18,"0")+IF(H18>0,(I18/1.5)*H18,"0"),1) -> 36 | M18: =ROUND(J18+K18+L18,1) -> 36
A19: 06 | B19: 14/10/15 | C19: 20/1/16 | E19: AT&MTCN | F19: 15CĐ-CK1 | G19: 1.2 | I19: 30 | J19: =ROUND(IF(G19>0,G19*I19,"0")+IF(H19>0,(I19/1.5)*H19,"0"),1) -> 36 | M19: =ROUND(J19+K19+L19,1) -> 36
A20: 07 | B20: 14/10/15 | C20: 20/1/16 | E20: AT&MTCN | F20: 15CĐ-CK3 | G20: 1.2 | I20: 30 | J20: =ROUND(IF(G20>0,G20*I20,"0")+IF(H20>0,(I20/1.5)*H20,"0"),1) -> 36 | M20: =ROUND(J20+K20+L20,1) -> 36
A21: 08 | B21: 14/10/15 | C21: 20/1/16 | E21: AT&MTCN | F21: 15CĐ-CK6 | G21: 1.2 | I21: 30 | J21: =ROUND(IF(G21>0,G21*I21,"0")+IF(H21>0,(I21/1.5)*H21,"0"),1) -> 36 | M21: =ROUND(J21+K21+L21,1) -> 36
A22: 09 | B22: 14/10/15 | C22: 20/1/16 | E22: AT&MTCN | F22: 15CĐ-CK9 | G22: 1.2 | I22: 30 | J22: =ROUND(IF(G22>0,G22*I22,"0")+IF(H22>0,(I22/1.5)*H22,"0"),1) -> 36 | M22: =ROUND(J22+K22+L22,1) -> 36
A23: 10 | E23: CVHT | G23: 15 | J23: =ROUND(IF(G23>0,G23*I23,"0")+IF(H23>0,(I23/1.5)*H23,"0"),1) -> 0 | K23: =IF(E23="CVHT",ROUND((270*G23/100)/2,1),0) -> 20.3 | M23: =ROUND(J23+K23+L23,1) -> 20.3
A24: TỔNG CỘNG (theo tiết) | I24: =SUM(I14:I23) -> 270 | J24: =SUM(J14:J23) -> 299 | K24: =SUM(K14:K23) -> 20.3 | L24: =SUM(L14:L21) -> 0 | M24: =SUM(M14:M23) -> 319.3
B26: CÁCH TÍNH: | C26: Cột (6), (7): | D26: Nhập tổng hệ số = 1+ (Hệ số thứ nhất - 1 + Hệ số thứ hai - 1 + … -1), không tính hệ số quy đổi thực hành sang tiết chuẩn
C27: Cột (8): | D27: Nhập đúng số tiết thực dạy
C28: Cột (11): | D28: Khối lượng công tác cộng thêm (nếu có) theo điều 16 Quy định 1863.
M30: Ngày 12 tháng 4 năm 2016
B31: TRƯỞNG KHOA | F31: TRƯỞNG TỔ | M31: GIÁO VIÊN
F37: Trần Đình Khải | M37: Nguyễn Ngọc Quỳnh

Sheet Thanh
C1: ỦY BAN NHÂN DÂN TP.HCM | J1: CỘNG HÒA XÃ HỘI CHỦ NGHĨA VIỆT NAM
